Workbook
Name Lista_Branza_Sel: USTAWIENIA!$A$2:$A$8
Name Lista_Branza: USTAWIENIA!$A$3:$A$8
Name Lista_VAT: USTAWIENIA!$B$2:$B$4
Name Lista_TakNie: USTAWIENIA!$C$2:$C$3
Name Lista_Jednostki: USTAWIENIA!$D$2:$D$13
Name VAT_STAWKA: START!$H$11
Name VAT_ZW: START!$H$12
Name NARZUT: START!$H$15
Name BR_WSZYSTKIE: 'BAZA PRAC'!$D$4:$D$61
Name BR_ELEKTRYKA: 'BAZA PRAC'!$D$4:$D$15
Name BR_BUDOWLANKA: 'BAZA PRAC'!$D$16:$D$27
Name BR_WODKAN: 'BAZA PRAC'!$D$28:$D$37
Name BR_WENTYLACJA: 'BAZA PRAC'!$D$38:$D$45
Name BR_AUTOMATYKA: 'BAZA PRAC'!$D$46:$D$53
Name BR_INNE: 'BAZA PRAC'!$D$54:$D$61

Sheet START
A1: BRYGADA24
A2: AUTOMATYCZNY KOSZTORYS — PANEL DANYCH
A4: DANE WYKONAWCY | F4: METRYKA KOSZTORYSU
B5: Nazwa firmy | F5: Numer kosztorysu
B6: NIP | F6: Wersja
B7: Adres | F7: Data sporządzenia
B8: Telefon | F8: Data aktualizacji
B9: E-mail
B10: Osoba kontaktowa | F10: WARUNKI HANDLOWE
F11: Stawka VAT
A12: DANE KLIENTA | F12: VAT zwolniony (zw.)
B13: Nazwa / Imię i nazwisko | F13: Ważność oferty
B14: NIP (opcjonalnie) | F14: Termin płatności
B15: Adres | F15: Narzut / koszty ogólne / zysk %
B16: Telefon
B17: E-mail
A19: INWESTYCJA
B20: Nazwa inwestycji / przedmiot
B21: Lokalizacja / adres robót
B22: Branża / zakres kosztorysu
A23: UWAGI / ZAKRES OFERTY
A29: Wskazówka: uzupełnij dane, wybierz branżę (filtruje listę prac), a następnie przejdź do arkusza KOSZTORYS. Pola kremowe = do wpisania. Puste pola pozostają puste.

Sheet KOSZTORYS
A1: BRYGADA24 | F1: KOSZTORYS
A2: Zestawienie prac i materiałów
A4: Wykonawca: | C4: =IF(START!$C$5="","",START!$C$5) | I4: Nr kosztorysu: | K4: =IF(START!$H$5="","",START!$H$5)
A5: Adres / kontakt: | C5: =IF(AND(START!$C$7="",START!$C$8=""),"",IF(START!$C$7="","",START!$C$7)&IF(START!$C$8="",""," tel. "&START!$C$8)) | I5: Wersja: | K5: =IF(START!$H$6="","",START!$H$6)
A6: Klient: | C6: =IF(START!$C$13="","",START!$C$13) | I6: Data sporządzenia: | K6: =IF(START!$H$7="","",START!$H$7)
A7: Inwestycja: | C7: =IF(START!$C$20="","",START!$C$20) | I7: Ważność oferty: | K7: =IF(START!$H$13="","",START!$H$13)
A8: Lokalizacja: | C8: =IF(START!$C$21="","",START!$C$21) | I8: Termin płatności: | K8: =IF(START!$H$14="","",START!$H$14)
A10: Lp. | B10: Kod | C10: Branża | D10: Opis prac | E10: Jedn. | F10: Ilość | G10: Robocizna cena jedn. | H10: Materiał cena jedn. | I10: Sprzęt / inne cena jedn. | J10: Cena jedn. razem | K10: Wartość netto | L10: Rabat % | M10: Wartość po rabacie | N10: Uwagi | BX10: Kod (własny) | BY10: Jedn. (własna)
A11: =IF($D11="","",COUNTA($D$11:$D11)) | B11: =IF($BX11<>"",$BX11,IF($D11="","",IFERROR(INDEX('BAZA PRAC'!$A$4:$A$61,MATCH($D11,'BAZA PRAC'!$D$4:$D$61,0)),""))) | E11: =IF($BY11<>"",$BY11,IF($D11="","",IFERROR(INDEX('BAZA PRAC'!$E$4:$E$61,MATCH($D11,'BAZA PRAC'!$D$4:$D$61,0)),""))) | J11: =IF($D11="","",N(G11)+N(H11)+N(I11)) | K11: =IF($D11="","",N(F11)*J11) | M11: =IF($D11="","",K11*(1-N(L11))) | P11: =IFERROR(VLOOKUP($C11,USTAWIENIA!$E$2:$H$8,3,FALSE),4) | Q11: =IFERROR(VLOOKUP($C11,USTAWIENIA!$E$2:$H$8,4,FALSE),58) | R11: =IF(1<=$Q11,INDEX('BAZA PRAC'!$D$4:$D$61,$P11-4+1),"") | S11: =IF(2<=$Q11,INDEX('BAZA PRAC'!$D$4:$D$61,$P11-4+2),"") | T11: =IF(3<=$Q11,INDEX('BAZA PRAC'!$D$4:$D$61,$P11-4+3),"") | U11: =IF(4<=$Q11,INDEX('BAZA PRAC'!$D$4:$D$61,$P11-4+4),"") | V11: =IF(5<=$Q11,INDEX('BAZA PRAC'!$D$4:$D$61,$P11-4+5),"") | W11: =IF(6<=$Q11,INDEX('BAZA PRAC'!$D$4:$D$61,$P11-4+6),"") | X11: =IF(7<=$Q11,INDEX('BAZA PRAC'!$D$4:$D$61,$P11-4+7),"") | Y11: =IF(8<=$Q11,INDEX('BAZA PRAC'!$D$4:$D$61,$P11-4+8),"") | Z11: =IF(9<=$Q11,INDEX('BAZA PRAC'!$D$4:$D$61,$P11-4+9),"") | AA11: =IF(10<=$Q11,INDEX('BAZA PRAC'!$D$4:$D$61,$P11-4+10),"") | AB11: =IF(11<=$Q11,INDEX('BAZA PRAC'!$D$4:$D$61,$P11-4+11),"") | AC11: =IF(12<=$Q11,INDEX('BAZA PRAC'!$D$4:$D$61,$P11-4+12),"") | AD11: =IF(13<=$Q11,INDEX('BAZA PRAC'!$D$4:$D$61,$P11-4+13),"") | AE11: =IF(14<=$Q11,INDEX('BAZA PRAC'!$D$4:$D$61,$P11-4+14),"") | AF11: =IF(15<=$Q11,INDEX('BAZA PRAC'!$D$4:$D$61,$P11-4+15),"") | AG11: =IF(16<=$Q11,INDEX('BAZA PRAC'!$D$4:$D$61,$P11-4+16),"") | AH11: =IF(17<=$Q11,INDEX('BAZA PRAC'!$D$4:$D$61,$P11-4+17),"") | AI11: =IF(18<=$Q11,INDEX('BAZA PRAC'!$D$4:$D$61,$P11-4+18),"") | AJ11: =IF(19<=$Q11,INDEX('BAZA PRAC'!$D$4:$D$61,$P11-4+19),"") | AK11: =IF(20<=$Q11,INDEX('BAZA PRAC'!$D$4:$D$61,$P11-4+20),"") | AL11: =IF(21<=$Q11,INDEX('BAZA PRAC'!$D$4:$D$61,$P11-4+21),"") | AM11: =IF(22<=$Q11,INDEX('BAZA PRAC'!$D$4:$D$61,$P11-4+22),"") | AN11: =IF(23<=$Q11,INDEX('BAZA PRAC'!$D$4:$D$61,$P11-4+23),"") | AO11: =IF(24<=$Q11,INDEX('BAZA PRAC'!$D$4:$D$61,$P11-4+24),"") | AP11: =IF(25<=$Q11,INDEX('BAZA PRAC'!$D$4:$D$61,$P11-4+25),"") | AQ11: =IF(26<=$Q11,INDEX('BAZA PRAC'!$D$4:$D$61,$P11-4+26),"") | AR11: =IF(27<=$Q11,INDEX('BAZA PRAC'!$D$4:$D$61,$P11-4+27),"") | AS11: =IF(28<=$Q11,INDEX('BAZA PRAC'!$D$4:$D$61,$P11-4+28),"") | AT11: =IF(29<=$Q11,INDEX('BAZA PRAC'!$D$4:$D$61,$P11-4+29),"") | AU11: =IF(30<=$Q11,INDEX('BAZA PRAC'!$D$4:$D$61,$P11-4+30),"") | AV11: =IF(31<=$Q11,INDEX('BAZA PRAC'!$D$4:$D$61,$P11-4+31),"") | AW11: =IF(32<=$Q11,INDEX('BAZA PRAC'!$D$4:$D$61,$P11-4+32),"") | AX11: =IF(33<=$Q11,INDEX('BAZA PRAC'!$D$4:$D$61,$P11-4+33),"") | AY11: =IF(34<=$Q11,INDEX('BAZA PRAC'!$D$4:$D$61,$P11-4+34),"") | AZ11: =IF(35<=$Q11,INDEX('BAZA PRAC'!$D$4:$D$61,$P11-4+35),"") | BA11: =IF(36<=$Q11,INDEX('BAZA PRAC'!$D$4:$D$61,$P11-4+36),"") | BB11: =IF(37<=$Q11,INDEX('BAZA PRAC'!$D$4:$D$61,$P11-4+37),"") | BC11: =IF(38<=$Q11,INDEX('BAZA PRAC'!$D$4:$D$61,$P11-4+38),"") | BD11: =IF(39<=$Q11,INDEX('BAZA PRAC'!$D$4:$D$61,$P11-4+39),"") | BE11: =IF(40<=$Q11,INDEX('BAZA PRAC'!$D$4:$D$61,$P11-4+40),"") | BF11: =IF(41<=$Q11,INDEX('BAZA PRAC'!$D$4:$D$61,$P11-4+41),"") | BG11: =IF(42<=$Q11,INDEX('BAZA PRAC'!$D$4:$D$61,$P11-4+42),"") | BH11: =IF(43<=$Q11,INDEX('BAZA PRAC'!$D$4:$D$61,$P11-4+43),"") | BI11: =IF(44<=$Q11,INDEX('BAZA PRAC'!$D$4:$D$61,$P11-4+44),"") | BJ11: =IF(45<=$Q11,INDEX('BAZA PRAC'!$D$4:$D$61,$P11-4+45),"") | BK11: =IF(46<=$Q11,INDEX('BAZA PRAC'!$D$4:$D$61,$P11-4+46),"") | BL11: =IF(47<=$Q11,INDEX('BAZA PRAC'!$D$4:$D$61,$P11-4+47),"") | BM11: =IF(48<=$Q11,INDEX('BAZA PRAC'!$D$4:$D$61,$P11-4+48),"") | BN11: =IF(49<=$Q11,INDEX('BAZA PRAC'!$D$4:$D$61,$P11-4+49),"") | BO11: =IF(50<=$Q11,INDEX('BAZA PRAC'!$D$4:$D$61,$P11-4+50),"") | BP11: =IF(51<=$Q11,INDEX('BAZA PRAC'!$D$4:$D$61,$P11-4+51),"") | BQ11: =IF(52<=$Q11,INDEX('BAZA PRAC'!$D$4:$D$61,$P11-4+52),"") | BR11: =IF(53<=$Q11,INDEX('BAZA PRAC'!$D$4:$D$61,$P11-4+53),"") | BS11: =IF(54<=$Q11,INDEX('BAZA PRAC'!$D$4:$D$61,$P11-4+54),"") | BT11: =IF(55<=$Q11,INDEX('BAZA PRAC'!$D$4:$D$61,$P11-4+55),"") | BU11: =IF(56<=$Q11,INDEX('BAZA PRAC'!$D$4:$D$61,$P11-4+56),"") | BV11: =IF(57<=$Q11,INDEX('BAZA PRAC'!$D$4:$D$61,$P11-4+57),"") | BW11: =IF(58<=$Q11,INDEX('BAZA PRAC'!$D$4:$D$61,$P11-4+58),"")
A12: =IF($D12="","",COUNTA($D$11:$D12)) | B12: =IF($BX12<>"",$BX12,IF($D12="","",IFERROR(INDEX('BAZA PRAC'!$A$4:$A$61,MATCH($D12,'BAZA PRAC'!$D$4:$D$61,0)),""))) | E12: =IF($BY12<>"",$BY12,IF($D12="","",IFERROR(INDEX('BAZA PRAC'!$E$4:$E$61,MATCH($D12,'BAZA PRAC'!$D$4:$D$61,0)),""))) | J12: =IF($D12="","",N(G12)+N(H12)+N(I12)) | K12: =IF($D12="","",N(F12)*J12) | M12: =IF($D12="","",K12*(1-N(L12))) | P12: =IFERROR(VLOOKUP($C12,USTAWIENIA!$E$2:$H$8,3,FALSE),4) | Q12: =IFERROR(VLOOKUP($C12,USTAWIENIA!$E$2:$H$8,4,FALSE),58) | R12: =IF(1<=$Q12,INDEX('BAZA PRAC'!$D$4:$D$61,$P12-4+1),"") | S12: =IF(2<=$Q12,INDEX('BAZA PRAC'!$D$4:$D$61,$P12-4+2),"") | T12: =IF(3<=$Q12,INDEX('BAZA PRAC'!$D$4:$D$61,$P12-4+3),"") | U12: =IF(4<=$Q12,INDEX('BAZA PRAC'!$D$4:$D$61,$P12-4+4),"") | V12: =IF(5<=$Q12,INDEX('BAZA PRAC'!$D$4:$D$61,$P12-4+5),"") | W12: =IF(6<=$Q12,INDEX('BAZA PRAC'!$D$4:$D$61,$P12-4+6),"") | X12: =IF(7<=$Q12,INDEX('BAZA PRAC'!$D$4:$D$61,$P12-4+7),"") | Y12: =IF(8<=$Q12,INDEX('BAZA PRAC'!$D$4:$D$61,$P12-4+8),"") | Z12: =IF(9<=$Q12,INDEX('BAZA PRAC'!$D$4:$D$61,$P12-4+9),"") | AA12: =IF(10<=$Q12,INDEX('BAZA PRAC'!$D$4:$D$61,$P12-4+10),"") | AB12: =IF(11<=$Q12,INDEX('BAZA PRAC'!$D$4:$D$61,$P12-4+11),"") | AC12: =IF(12<=$Q12,INDEX('BAZA PRAC'!$D$4:$D$61,$P12-4+12),"") | AD12: =IF(13<=$Q12,INDEX('BAZA PRAC'!$D$4:$D$61,$P12-4+13),"") | AE12: =IF(14<=$Q12,INDEX('BAZA PRAC'!$D$4:$D$61,$P12-4+14),"") | AF12: =IF(15<=$Q12,INDEX('BAZA PRAC'!$D$4:$D$61,$P12-4+15),"") | AG12: =IF(16<=$Q12,INDEX('BAZA PRAC'!$D$4:$D$61,$P12-4+16),"") | AH12: =IF(17<=$Q12,INDEX('BAZA PRAC'!$D$4:$D$61,$P12-4+17),"") | AI12: =IF(18<=$Q12,INDEX('BAZA PRAC'!$D$4:$D$61,$P12-4+18),"") | AJ12: =IF(19<=$Q12,INDEX('BAZA PRAC'!$D$4:$D$61,$P12-4+19),"") | AK12: =IF(20<=$Q12,INDEX('BAZA PRAC'!$D$4:$D$61,$P12-4+20),"") | AL12: =IF(21<=$Q12,INDEX('BAZA PRAC'!$D$4:$D$61,$P12-4+21),"") | AM12: =IF(22<=$Q12,INDEX('BAZA PRAC'!$D$4:$D$61,$P12-4+22),"") | AN12: =IF(23<=$Q12,INDEX('BAZA PRAC'!$D$4:$D$61,$P12-4+23),"") | AO12: =IF(24<=$Q12,INDEX('BAZA PRAC'!$D$4:$D$61,$P12-4+24),"") | AP12: =IF(25<=$Q12,INDEX('BAZA PRAC'!$D$4:$D$61,$P12-4+25),"") | AQ12: =IF(26<=$Q12,INDEX('BAZA PRAC'!$D$4:$D$61,$P12-4+26),"") | AR12: =IF(27<=$Q12,INDEX('BAZA PRAC'!$D$4:$D$61,$P12-4+27),"") | AS12: =IF(28<=$Q12,INDEX('BAZA PRAC'!$D$4:$D$61,$P12-4+28),"") | AT12: =IF(29<=$Q12,INDEX('BAZA PRAC'!$D$4:$D$61,$P12-4+29),"") | AU12: =IF(30<=$Q12,INDEX('BAZA PRAC'!$D$4:$D$61,$P12-4+30),"") | AV12: =IF(31<=$Q12,INDEX('BAZA PRAC'!$D$4:$D$61,$P12-4+31),"") | AW12: =IF(32<=$Q12,INDEX('BAZA PRAC'!$D$4:$D$61,$P12-4+32),"") | AX12: =IF(33<=$Q12,INDEX('BAZA PRAC'!$D$4:$D$61,$P12-4+33),"") | AY12: =IF(34<=$Q12,INDEX('BAZA PRAC'!$D$4:$D$61,$P12-4+34),"") | AZ12: =IF(35<=$Q12,INDEX('BAZA PRAC'!$D$4:$D$61,$P12-4+35),"") | BA12: =IF(36<=$Q12,INDEX('BAZA PRAC'!$D$4:$D$61,$P12-4+36),"") | BB12: =IF(37<=$Q12,INDEX('BAZA PRAC'!$D$4:$D$61,$P12-4+37),"") | BC12: =IF(38<=$Q12,INDEX('BAZA PRAC'!$D$4:$D$61,$P12-4+38),"") | BD12: =IF(39<=$Q12,INDEX('BAZA PRAC'!$D$4:$D$61,$P12-4+39),"") | BE12: =IF(40<=$Q12,INDEX('BAZA PRAC'!$D$4:$D$61,$P12-4+40),"") | BF12: =IF(41<=$Q12,INDEX('BAZA PRAC'!$D$4:$D$61,$P12-4+41),"") | BG12: =IF(42<=$Q12,INDEX('BAZA PRAC'!$D$4:$D$61,$P12-4+42),"") | BH12: =IF(43<=$Q12,INDEX('BAZA PRAC'!$D$4:$D$61,$P12-4+43),"") | BI12: =IF(44<=$Q12,INDEX('BAZA PRAC'!$D$4:$D$61,$P12-4+44),"") | BJ12: =IF(45<=$Q12,INDEX('BAZA PRAC'!$D$4:$D$61,$P12-4+45),"") | BK12: =IF(46<=$Q12,INDEX('BAZA PRAC'!$D$4:$D$61,$P12-4+46),"") | BL12: =IF(47<=$Q12,INDEX('BAZA PRAC'!$D$4:$D$61,$P12-4+47),"") | BM12: =IF(48<=$Q12,INDEX('BAZA PRAC'!$D$4:$D$61,$P12-4+48),"") | BN12: =IF(49<=$Q12,INDEX('BAZA PRAC'!$D$4:$D$61,$P12-4+49),"") | BO12: =IF(50<=$Q12,INDEX('BAZA PRAC'!$D$4:$D$61,$P12-4+50),"") | BP12: =IF(51<=$Q12,INDEX('BAZA PRAC'!$D$4:$D$61,$P12-4+51),"") | BQ12: =IF(52<=$Q12,INDEX('BAZA PRAC'!$D$4:$D$61,$P12-4+52),"") | BR12: =IF(53<=$Q12,INDEX('BAZA PRAC'!$D$4:$D$61,$P12-4+53),"") | BS12: =IF(54<=$Q12,INDEX('BAZA PRAC'!$D$4:$D$61,$P12-4+54),"") | BT12: =IF(55<=$Q12,INDEX('BAZA PRAC'!$D$4:$D$61,$P12-4+55),"") | BU12: =IF(56<=$Q12,INDEX('BAZA PRAC'!$D$4:$D$61,$P12-4+56),"") | BV12: =IF(57<=$Q12,INDEX('BAZA PRAC'!$D$4:$D$61,$P12-4+57),"") | BW12: =IF(58<=$Q12,INDEX('BAZA PRAC'!$D$4:$D$61,$P12-4+58),"")
A13: =IF($D13="","",COUNTA($D$11:$D13)) | B13: =IF($BX13<>"",$BX13,IF($D13="","",IFERROR(INDEX('BAZA PRAC'!$A$4:$A$61,MATCH($D13,'BAZA PRAC'!$D$4:$D$61,0)),""))) | E13: =IF($BY13<>"",$BY13,IF($D13="","",IFERROR(INDEX('BAZA PRAC'!$E$4:$E$61,MATCH($D13,'BAZA PRAC'!$D$4:$D$61,0)),""))) | J13: =IF($D13="","",N(G13)+N(H13)+N(I13)) | K13: =IF($D13="","",N(F13)*J13) | M13: =IF($D13="","",K13*(1-N(L13))) | P13: =IFERROR(VLOOKUP($C13,USTAWIENIA!$E$2:$H$8,3,FALSE),4) | Q13: =IFERROR(VLOOKUP($C13,USTAWIENIA!$E$2:$H$8,4,FALSE),58) | R13: =IF(1<=$Q13,INDEX('BAZA PRAC'!$D$4:$D$61,$P13-4+1),"") | S13: =IF(2<=$Q13,INDEX('BAZA PRAC'!$D$4:$D$61,$P13-4+2),"") | T13: =IF(3<=$Q13,INDEX('BAZA PRAC'!$D$4:$D$61,$P13-4+3),"") | U13: =IF(4<=$Q13,INDEX('BAZA PRAC'!$D$4:$D$61,$P13-4+4),"") | V13: =IF(5<=$Q13,INDEX('BAZA PRAC'!$D$4:$D$61,$P13-4+5),"") | W13: =IF(6<=$Q13,INDEX('BAZA PRAC'!$D$4:$D$61,$P13-4+6),"") | X13: =IF(7<=$Q13,INDEX('BAZA PRAC'!$D$4:$D$61,$P13-4+7),"") | Y13: =IF(8<=$Q13,INDEX('BAZA PRAC'!$D$4:$D$61,$P13-4+8),"") | Z13: =IF(9<=$Q13,INDEX('BAZA PRAC'!$D$4:$D$61,$P13-4+9),"") | AA13: =IF(10<=$Q13,INDEX('BAZA PRAC'!$D$4:$D$61,$P13-4+10),"") | AB13: =IF(11<=$Q13,INDEX('BAZA PRAC'!$D$4:$D$61,$P13-4+11),"") | AC13: =IF(12<=$Q13,INDEX('BAZA PRAC'!$D$4:$D$61,$P13-4+12),"") | AD13: =IF(13<=$Q13,INDEX('BAZA PRAC'!$D$4:$D$61,$P13-4+13),"") | AE13: =IF(14<=$Q13,INDEX('BAZA PRAC'!$D$4:$D$61,$P13-4+14),"") | AF13: =IF(15<=$Q13,INDEX('BAZA PRAC'!$D$4:$D$61,$P13-4+15),"") | AG13: =IF(16<=$Q13,INDEX('BAZA PRAC'!$D$4:$D$61,$P13-4+16),"") | AH13: =IF(17<=$Q13,INDEX('BAZA PRAC'!$D$4:$D$61,$P13-4+17),"") | AI13: =IF(18<=$Q13,INDEX('BAZA PRAC'!$D$4:$D$61,$P13-4+18),"") | AJ13: =IF(19<=$Q13,INDEX('BAZA PRAC'!$D$4:$D$61,$P13-4+19),"") | AK13: =IF(20<=$Q13,INDEX('BAZA PRAC'!$D$4:$D$61,$P13-4+20),"") | AL13: =IF(21<=$Q13,INDEX('BAZA PRAC'!$D$4:$D$61,$P13-4+21),"") | AM13: =IF(22<=$Q13,INDEX('BAZA PRAC'!$D$4:$D$61,$P13-4+22),"") | AN13: =IF(23<=$Q13,INDEX('BAZA PRAC'!$D$4:$D$61,$P13-4+23),"") | AO13: =IF(24<=$Q13,INDEX('BAZA PRAC'!$D$4:$D$61,$P13-4+24),"") | AP13: =IF(25<=$Q13,INDEX('BAZA PRAC'!$D$4:$D$61,$P13-4+25),"") | AQ13: =IF(26<=$Q13,INDEX('BAZA PRAC'!$D$4:$D$61,$P13-4+26),"") | AR13: =IF(27<=$Q13,INDEX('BAZA PRAC'!$D$4:$D$61,$P13-4+27),"") | AS13: =IF(28<=$Q13,INDEX('BAZA PRAC'!$D$4:$D$61,$P13-4+28),"") | AT13: =IF(29<=$Q13,INDEX('BAZA PRAC'!$D$4:$D$61,$P13-4+29),"") | AU13: =IF(30<=$Q13,INDEX('BAZA PRAC'!$D$4:$D$61,$P13-4+30),"") | AV13: =IF(31<=$Q13,INDEX('BAZA PRAC'!$D$4:$D$61,$P13-4+31),"") | AW13: =IF(32<=$Q13,INDEX('BAZA PRAC'!$D$4:$D$61,$P13-4+32),"") | AX13: =IF(33<=$Q13,INDEX('BAZA PRAC'!$D$4:$D$61,$P13-4+33),"") | AY13: =IF(34<=$Q13,INDEX('BAZA PRAC'!$D$4:$D$61,$P13-4+34),"") | AZ13: =IF(35<=$Q13,INDEX('BAZA PRAC'!$D$4:$D$61,$P13-4+35),"") | BA13: =IF(36<=$Q13,INDEX('BAZA PRAC'!$D$4:$D$61,$P13-4+36),"") | BB13: =IF(37<=$Q13,INDEX('BAZA PRAC'!$D$4:$D$61,$P13-4+37),"") | BC13: =IF(38<=$Q13,INDEX('BAZA PRAC'!$D$4:$D$61,$P13-4+38),"") | BD13: =IF(39<=$Q13,INDEX('BAZA PRAC'!$D$4:$D$61,$P13-4+39),"") | BE13: =IF(40<=$Q13,INDEX('BAZA PRAC'!$D$4:$D$61,$P13-4+40),"") | BF13: =IF(41<=$Q13,INDEX('BAZA PRAC'!$D$4:$D$61,$P13-4+41),"") | BG13: =IF(42<=$Q13,INDEX('BAZA PRAC'!$D$4:$D$61,$P13-4+42),"") | BH13: =IF(43<=$Q13,INDEX('BAZA PRAC'!$D$4:$D$61,$P13-4+43),"") | BI13: =IF(44<=$Q13,INDEX('BAZA PRAC'!$D$4:$D$61,$P13-4+44),"") | BJ13: =IF(45<=$Q13,INDEX('BAZA PRAC'!$D$4:$D$61,$P13-4+45),"") | BK13: =IF(46<=$Q13,INDEX('BAZA PRAC'!$D$4:$D$61,$P13-4+46),"") | BL13: =IF(47<=$Q13,INDEX('BAZA PRAC'!$D$4:$D$61,$P13-4+47),"") | BM13: =IF(48<=$Q13,INDEX('BAZA PRAC'!$D$4:$D$61,$P13-4+48),"") | BN13: =IF(49<=$Q13,INDEX('BAZA PRAC'!$D$4:$D$61,$P13-4+49),"") | BO13: =IF(50<=$Q13,INDEX('BAZA PRAC'!$D$4:$D$61,$P13-4+50),"") | BP13: =IF(51<=$Q13,INDEX('BAZA PRAC'!$D$4:$D$61,$P13-4+51),"") | BQ13: =IF(52<=$Q13,INDEX('BAZA PRAC'!$D$4:$D$61,$P13-4+52),"") | BR13: =IF(53<=$Q13,INDEX('BAZA PRAC'!$D$4:$D$61,$P13-4+53),"") | BS13: =IF(54<=$Q13,INDEX('BAZA PRAC'!$D$4:$D$61,$P13-4+54),"") | BT13: =IF(55<=$Q13,INDEX('BAZA PRAC'!$D$4:$D$61,$P13-4+55),"") | BU13: =IF(56<=$Q13,INDEX('BAZA PRAC'!$D$4:$D$61,$P13-4+56),"") | BV13: =IF(57<=$Q13,INDEX('BAZA PRAC'!$D$4:$D$61,$P13-4+57),"") | BW13: =IF(58<=$Q13,INDEX('BAZA PRAC'!$D$4:$D$61,$P13-4+58),"")
A14: =IF($D14="","",COUNTA($D$11:$D14)) | B14: =IF($BX14<>"",$BX14,IF($D14="","",IFERROR(INDEX('BAZA PRAC'!$A$4:$A$61,MATCH($D14,'BAZA PRAC'!$D$4:$D$61,0)),""))) | E14: =IF($BY14<>"",$BY14,IF($D14="","",IFERROR(INDEX('BAZA PRAC'!$E$4:$E$61,MATCH($D14,'BAZA PRAC'!$D$4:$D$61,0)),""))) | J14: =IF($D14="","",N(G14)+N(H14)+N(I14)) | K14: =IF($D14="","",N(F14)*J14) | M14: =IF($D14="","",K14*(1-N(L14))) | P14: =IFERROR(VLOOKUP($C14,USTAWIENIA!$E$2:$H$8,3,FALSE),4) | Q14: =IFERROR(VLOOKUP($C14,USTAWIENIA!$E$2:$H$8,4,FALSE),58) | R14: =IF(1<=$Q14,INDEX('BAZA PRAC'!$D$4:$D$61,$P14-4+1),"") | S14: =IF(2<=$Q14,INDEX('BAZA PRAC'!$D$4:$D$61,$P14-4+2),"") | T14: =IF(3<=$Q14,INDEX('BAZA PRAC'!$D$4:$D$61,$P14-4+3),"") | U14: =IF(4<=$Q14,INDEX('BAZA PRAC'!$D$4:$D$61,$P14-4+4),"") | V14: =IF(5<=$Q14,INDEX('BAZA PRAC'!$D$4:$D$61,$P14-4+5),"") | W14: =IF(6<=$Q14,INDEX('BAZA PRAC'!$D$4:$D$61,$P14-4+6),"") | X14: =IF(7<=$Q14,INDEX('BAZA PRAC'!$D$4:$D$61,$P14-4+7),"") | Y14: =IF(8<=$Q14,INDEX('BAZA PRAC'!$D$4:$D$61,$P14-4+8),"") | Z14: =IF(9<=$Q14,INDEX('BAZA PRAC'!$D$4:$D$61,$P14-4+9),"") | AA14: =IF(10<=$Q14,INDEX('BAZA PRAC'!$D$4:$D$61,$P14-4+10),"") | AB14: =IF(11<=$Q14,INDEX('BAZA PRAC'!$D$4:$D$61,$P14-4+11),"") | AC14: =IF(12<=$Q14,INDEX('BAZA PRAC'!$D$4:$D$61,$P14-4+12),"") | AD14: =IF(13<=$Q14,INDEX('BAZA PRAC'!$D$4:$D$61,$P14-4+13),"") | AE14: =IF(14<=$Q14,INDEX('BAZA PRAC'!$D$4:$D$61,$P14-4+14),"") | AF14: =IF(15<=$Q14,INDEX('BAZA PRAC'!$D$4:$D$61,$P14-4+15),"") | AG14: =IF(16<=$Q14,INDEX('BAZA PRAC'!$D$4:$D$61,$P14-4+16),"") | AH14: =IF(17<=$Q14,INDEX('BAZA PRAC'!$D$4:$D$61,$P14-4+17),"") | AI14: =IF(18<=$Q14,INDEX('BAZA PRAC'!$D$4:$D$61,$P14-4+18),"") | AJ14: =IF(19<=$Q14,INDEX('BAZA PRAC'!$D$4:$D$61,$P14-4+19),"") | AK14: =IF(20<=$Q14,INDEX('BAZA PRAC'!$D$4:$D$61,$P14-4+20),"") | AL14: =IF(21<=$Q14,INDEX('BAZA PRAC'!$D$4:$D$61,$P14-4+21),"") | AM14: =IF(22<=$Q14,INDEX('BAZA PRAC'!$D$4:$D$61,$P14-4+22),"") | AN14: =IF(23<=$Q14,INDEX('BAZA PRAC'!$D$4:$D$61,$P14-4+23),"") | AO14: =IF(24<=$Q14,INDEX('BAZA PRAC'!$D$4:$D$61,$P14-4+24),"") | AP14: =IF(25<=$Q14,INDEX('BAZA PRAC'!$D$4:$D$61,$P14-4+25),"") | AQ14: =IF(26<=$Q14,INDEX('BAZA PRAC'!$D$4:$D$61,$P14-4+26),"") | AR14: =IF(27<=$Q14,INDEX('BAZA PRAC'!$D$4:$D$61,$P14-4+27),"") | AS14: =IF(28<=$Q14,INDEX('BAZA PRAC'!$D$4:$D$61,$P14-4+28),"") | AT14: =IF(29<=$Q14,INDEX('BAZA PRAC'!$D$4:$D$61,$P14-4+29),"") | AU14: =IF(30<=$Q14,INDEX('BAZA PRAC'!$D$4:$D$61,$P14-4+30),"") | AV14: =IF(31<=$Q14,INDEX('BAZA PRAC'!$D$4:$D$61,$P14-4+31),"") | AW14: =IF(32<=$Q14,INDEX('BAZA PRAC'!$D$4:$D$61,$P14-4+32),"") | AX14: =IF(33<=$Q14,INDEX('BAZA PRAC'!$D$4:$D$61,$P14-4+33),"") | AY14: =IF(34<=$Q14,INDEX('BAZA PRAC'!$D$4:$D$61,$P14-4+34),"") | AZ14: =IF(35<=$Q14,INDEX('BAZA PRAC'!$D$4:$D$61,$P14-4+35),"") | BA14: =IF(36<=$Q14,INDEX('BAZA PRAC'!$D$4:$D$61,$P14-4+36),"") | BB14: =IF(37<=$Q14,INDEX('BAZA PRAC'!$D$4:$D$61,$P14-4+37),"") | BC14: =IF(38<=$Q14,INDEX('BAZA PRAC'!$D$4:$D$61,$P14-4+38),"") | BD14: =IF(39<=$Q14,INDEX('BAZA PRAC'!$D$4:$D$61,$P14-4+39),"") | BE14: =IF(40<=$Q14,INDEX('BAZA PRAC'!$D$4:$D$61,$P14-4+40),"") | BF14: =IF(41<=$Q14,INDEX('BAZA PRAC'!$D$4:$D$61,$P14-4+41),"") | BG14: =IF(42<=$Q14,INDEX('BAZA PRAC'!$D$4:$D$61,$P14-4+42),"") | BH14: =IF(43<=$Q14,INDEX('BAZA PRAC'!$D$4:$D$61,$P14-4+43),"") | BI14: =IF(44<=$Q14,INDEX('BAZA PRAC'!$D$4:$D$61,$P14-4+44),"") | BJ14: =IF(45<=$Q14,INDEX('BAZA PRAC'!$D$4:$D$61,$P14-4+45),"") | BK14: =IF(46<=$Q14,INDEX('BAZA PRAC'!$D$4:$D$61,$P14-4+46),"") | BL14: =IF(47<=$Q14,INDEX('BAZA PRAC'!$D$4:$D$61,$P14-4+47),"") | BM14: =IF(48<=$Q14,INDEX('BAZA PRAC'!$D$4:$D$61,$P14-4+48),"") | BN14: =IF(49<=$Q14,INDEX('BAZA PRAC'!$D$4:$D$61,$P14-4+49),"") | BO14: =IF(50<=$Q14,INDEX('BAZA PRAC'!$D$4:$D$61,$P14-4+50),"") | BP14: =IF(51<=$Q14,INDEX('BAZA PRAC'!$D$4:$D$61,$P14-4+51),"") | BQ14: =IF(52<=$Q14,INDEX('BAZA PRAC'!$D$4:$D$61,$P14-4+52),"") | BR14: =IF(53<=$Q14,INDEX('BAZA PRAC'!$D$4:$D$61,$P14-4+53),"") | BS14: =IF(54<=$Q14,INDEX('BAZA PRAC'!$D$4:$D$61,$P14-4+54),"") | BT14: =IF(55<=$Q14,INDEX('BAZA PRAC'!$D$4:$D$61,$P14-4+55),"") | BU14: =IF(56<=$Q14,INDEX('BAZA PRAC'!$D$4:$D$61,$P14-4+56),"") | BV14: =IF(57<=$Q14,INDEX('BAZA PRAC'!$D$4:$D$61,$P14-4+57),"") | BW14: =IF(58<=$Q14,INDEX('BAZA PRAC'!$D$4:$D$61,$P14-4+58),"")
A15: =IF($D15="","",COUNTA($D$11:$D15)) | B15: =IF($BX15<>"",$BX15,IF($D15="","",IFERROR(INDEX('BAZA PRAC'!$A$4:$A$61,MATCH($D15,'BAZA PRAC'!$D$4:$D$61,0)),""))) | E15: =IF($BY15<>"",$BY15,IF($D15="","",IFERROR(INDEX('BAZA PRAC'!$E$4:$E$61,MATCH($D15,'BAZA PRAC'!$D$4:$D$61,0)),""))) | J15: =IF($D15="","",N(G15)+N(H15)+N(I15)) | K15: =IF($D15="","",N(F15)*J15) | M15: =IF($D15="","",K15*(1-N(L15))) | P15: =IFERROR(VLOOKUP($C15,USTAWIENIA!$E$2:$H$8,3,FALSE),4) | Q15: =IFERROR(VLOOKUP($C15,USTAWIENIA!$E$2:$H$8,4,FALSE),58) | R15: =IF(1<=$Q15,INDEX('BAZA PRAC'!$D$4:$D$61,$P15-4+1),"") | S15: =IF(2<=$Q15,INDEX('BAZA PRAC'!$D$4:$D$61,$P15-4+2),"") | T15: =IF(3<=$Q15,INDEX('BAZA PRAC'!$D$4:$D$61,$P15-4+3),"") | U15: =IF(4<=$Q15,INDEX('BAZA PRAC'!$D$4:$D$61,$P15-4+4),"") | V15: =IF(5<=$Q15,INDEX('BAZA PRAC'!$D$4:$D$61,$P15-4+5),"") | W15: =IF(6<=$Q15,INDEX('BAZA PRAC'!$D$4:$D$61,$P15-4+6),"") | X15: =IF(7<=$Q15,INDEX('BAZA PRAC'!$D$4:$D$61,$P15-4+7),"") | Y15: =IF(8<=$Q15,INDEX('BAZA PRAC'!$D$4:$D$61,$P15-4+8),"") | Z15: =IF(9<=$Q15,INDEX('BAZA PRAC'!$D$4:$D$61,$P15-4+9),"") | AA15: =IF(10<=$Q15,INDEX('BAZA PRAC'!$D$4:$D$61,$P15-4+10),"") | AB15: =IF(11<=$Q15,INDEX('BAZA PRAC'!$D$4:$D$61,$P15-4+11),"") | AC15: =IF(12<=$Q15,INDEX('BAZA PRAC'!$D$4:$D$61,$P15-4+12),"") | AD15: =IF(13<=$Q15,INDEX('BAZA PRAC'!$D$4:$D$61,$P15-4+13),"") | AE15: =IF(14<=$Q15,INDEX('BAZA PRAC'!$D$4:$D$61,$P15-4+14),"") | AF15: =IF(15<=$Q15,INDEX('BAZA PRAC'!$D$4:$D$61,$P15-4+15),"") | AG15: =IF(16<=$Q15,INDEX('BAZA PRAC'!$D$4:$D$61,$P15-4+16),"") | AH15: =IF(17<=$Q15,INDEX('BAZA PRAC'!$D$4:$D$61,$P15-4+17),"") | AI15: =IF(18<=$Q15,INDEX('BAZA PRAC'!$D$4:$D$61,$P15-4+18),"") | AJ15: =IF(19<=$Q15,INDEX('BAZA PRAC'!$D$4:$D$61,$P15-4+19),"") | AK15: =IF(20<=$Q15,INDEX('BAZA PRAC'!$D$4:$D$61,$P15-4+20),"") | AL15: =IF(21<=$Q15,INDEX('BAZA PRAC'!$D$4:$D$61,$P15-4+21),"") | AM15: =IF(22<=$Q15,INDEX('BAZA PRAC'!$D$4:$D$61,$P15-4+22),"") | AN15: =IF(23<=$Q15,INDEX('BAZA PRAC'!$D$4:$D$61,$P15-4+23),"") | AO15: =IF(24<=$Q15,INDEX('BAZA PRAC'!$D$4:$D$61,$P15-4+24),"") | AP15: =IF(25<=$Q15,INDEX('BAZA PRAC'!$D$4:$D$61,$P15-4+25),"") | AQ15: =IF(26<=$Q15,INDEX('BAZA PRAC'!$D$4:$D$61,$P15-4+26),"") | AR15: =IF(27<=$Q15,INDEX('BAZA PRAC'!$D$4:$D$61,$P15-4+27),"") | AS15: =IF(28<=$Q15,INDEX('BAZA PRAC'!$D$4:$D$61,$P15-4+28),"") | AT15: =IF(29<=$Q15,INDEX('BAZA PRAC'!$D$4:$D$61,$P15-4+29),"") | AU15: =IF(30<=$Q15,INDEX('BAZA PRAC'!$D$4:$D$61,$P15-4+30),"") | AV15: =IF(31<=$Q15,INDEX('BAZA PRAC'!$D$4:$D$61,$P15-4+31),"") | AW15: =IF(32<=$Q15,INDEX('BAZA PRAC'!$D$4:$D$61,$P15-4+32),"") | AX15: =IF(33<=$Q15,INDEX('BAZA PRAC'!$D$4:$D$61,$P15-4+33),"") | AY15: =IF(34<=$Q15,INDEX('BAZA PRAC'!$D$4:$D$61,$P15-4+34),"") | AZ15: =IF(35<=$Q15,INDEX('BAZA PRAC'!$D$4:$D$61,$P15-4+35),"") | BA15: =IF(36<=$Q15,INDEX('BAZA PRAC'!$D$4:$D$61,$P15-4+36),"") | BB15: =IF(37<=$Q15,INDEX('BAZA PRAC'!$D$4:$D$61,$P15-4+37),"") | BC15: =IF(38<=$Q15,INDEX('BAZA PRAC'!$D$4:$D$61,$P15-4+38),"") | BD15: =IF(39<=$Q15,INDEX('BAZA PRAC'!$D$4:$D$61,$P15-4+39),"") | BE15: =IF(40<=$Q15,INDEX('BAZA PRAC'!$D$4:$D$61,$P15-4+40),"") | BF15: =IF(41<=$Q15,INDEX('BAZA PRAC'!$D$4:$D$61,$P15-4+41),"") | BG15: =IF(42<=$Q15,INDEX('BAZA PRAC'!$D$4:$D$61,$P15-4+42),"") | BH15: =IF(43<=$Q15,INDEX('BAZA PRAC'!$D$4:$D$61,$P15-4+43),"") | BI15: =IF(44<=$Q15,INDEX('BAZA PRAC'!$D$4:$D$61,$P15-4+44),"") | BJ15: =IF(45<=$Q15,INDEX('BAZA PRAC'!$D$4:$D$61,$P15-4+45),"") | BK15: =IF(46<=$Q15,INDEX('BAZA PRAC'!$D$4:$D$61,$P15-4+46),"") | BL15: =IF(47<=$Q15,INDEX('BAZA PRAC'!$D$4:$D$61,$P15-4+47),"") | BM15: =IF(48<=$Q15,INDEX('BAZA PRAC'!$D$4:$D$61,$P15-4+48),"") | BN15: =IF(49<=$Q15,INDEX('BAZA PRAC'!$D$4:$D$61,$P15-4+49),"") | BO15: =IF(50<=$Q15,INDEX('BAZA PRAC'!$D$4:$D$61,$P15-4+50),"") | BP15: =IF(51<=$Q15,INDEX('BAZA PRAC'!$D$4:$D$61,$P15-4+51),"") | BQ15: =IF(52<=$Q15,INDEX('BAZA PRAC'!$D$4:$D$61,$P15-4+52),"") | BR15: =IF(53<=$Q15,INDEX('BAZA PRAC'!$D$4:$D$61,$P15-4+53),"") | BS15: =IF(54<=$Q15,INDEX('BAZA PRAC'!$D$4:$D$61,$P15-4+54),"") | BT15: =IF(55<=$Q15,INDEX('BAZA PRAC'!$D$4:$D$61,$P15-4+55),"") | BU15: =IF(56<=$Q15,INDEX('BAZA PRAC'!$D$4:$D$61,$P15-4+56),"") | BV15: =IF(57<=$Q15,INDEX('BAZA PRAC'!$D$4:$D$61,$P15-4+57),"") | BW15: =IF(58<=$Q15,INDEX('BAZA PRAC'!$D$4:$D$61,$P15-4+58),"")
A16: =IF($D16="","",COUNTA($D$11:$D16)) | B16: =IF($BX16<>"",$BX16,IF($D16="","",IFERROR(INDEX('BAZA PRAC'!$A$4:$A$61,MATCH($D16,'BAZA PRAC'!$D$4:$D$61,0)),""))) | E16: =IF($BY16<>"",$BY16,IF($D16="","",IFERROR(INDEX('BAZA PRAC'!$E$4:$E$61,MATCH($D16,'BAZA PRAC'!$D$4:$D$61,0)),""))) | J16: =IF($D16="","",N(G16)+N(H16)+N(I16)) | K16: =IF($D16="","",N(F16)*J16) | M16: =IF($D16="","",K16*(1-N(L16))) | P16: =IFERROR(VLOOKUP($C16,USTAWIENIA!$E$2:$H$8,3,FALSE),4) | Q16: =IFERROR(VLOOKUP($C16,USTAWIENIA!$E$2:$H$8,4,FALSE),58) | R16: =IF(1<=$Q16,INDEX('BAZA PRAC'!$D$4:$D$61,$P16-4+1),"") | S16: =IF(2<=$Q16,INDEX('BAZA PRAC'!$D$4:$D$61,$P16-4+2),"") | T16: =IF(3<=$Q16,INDEX('BAZA PRAC'!$D$4:$D$61,$P16-4+3),"") | U16: =IF(4<=$Q16,INDEX('BAZA PRAC'!$D$4:$D$61,$P16-4+4),"") | V16: =IF(5<=$Q16,INDEX('BAZA PRAC'!$D$4:$D$61,$P16-4+5),"") | W16: =IF(6<=$Q16,INDEX('BAZA PRAC'!$D$4:$D$61,$P16-4+6),"") | X16: =IF(7<=$Q16,INDEX('BAZA PRAC'!$D$4:$D$61,$P16-4+7),"") | Y16: =IF(8<=$Q16,INDEX('BAZA PRAC'!$D$4:$D$61,$P16-4+8),"") | Z16: =IF(9<=$Q16,INDEX('BAZA PRAC'!$D$4:$D$61,$P16-4+9),"") | AA16: =IF(10<=$Q16,INDEX('BAZA PRAC'!$D$4:$D$61,$P16-4+10),"") | AB16: =IF(11<=$Q16,INDEX('BAZA PRAC'!$D$4:$D$61,$P16-4+11),"") | AC16: =IF(12<=$Q16,INDEX('BAZA PRAC'!$D$4:$D$61,$P16-4+12),"") | AD16: =IF(13<=$Q16,INDEX('BAZA PRAC'!$D$4:$D$61,$P16-4+13),"") | AE16: =IF(14<=$Q16,INDEX('BAZA PRAC'!$D$4:$D$61,$P16-4+14),"") | AF16: =IF(15<=$Q16,INDEX('BAZA PRAC'!$D$4:$D$61,$P16-4+15),"") | AG16: =IF(16<=$Q16,INDEX('BAZA PRAC'!$D$4:$D$61,$P16-4+16),"") | AH16: =IF(17<=$Q16,INDEX('BAZA PRAC'!$D$4:$D$61,$P16-4+17),"") | AI16: =IF(18<=$Q16,INDEX('BAZA PRAC'!$D$4:$D$61,$P16-4+18),"") | AJ16: =IF(19<=$Q16,INDEX('BAZA PRAC'!$D$4:$D$61,$P16-4+19),"") | AK16: =IF(20<=$Q16,INDEX('BAZA PRAC'!$D$4:$D$61,$P16-4+20),"") | AL16: =IF(21<=$Q16,INDEX('BAZA PRAC'!$D$4:$D$61,$P16-4+21),"") | AM16: =IF(22<=$Q16,INDEX('BAZA PRAC'!$D$4:$D$61,$P16-4+22),"") | AN16: =IF(23<=$Q16,INDEX('BAZA PRAC'!$D$4:$D$61,$P16-4+23),"") | AO16: =IF(24<=$Q16,INDEX('BAZA PRAC'!$D$4:$D$61,$P16-4+24),"") | AP16: =IF(25<=$Q16,INDEX('BAZA PRAC'!$D$4:$D$61,$P16-4+25),"") | AQ16: =IF(26<=$Q16,INDEX('BAZA PRAC'!$D$4:$D$61,$P16-4+26),"") | AR16: =IF(27<=$Q16,INDEX('BAZA PRAC'!$D$4:$D$61,$P16-4+27),"") | AS16: =IF(28<=$Q16,INDEX('BAZA PRAC'!$D$4:$D$61,$P16-4+28),"") | AT16: =IF(29<=$Q16,INDEX('BAZA PRAC'!$D$4:$D$61,$P16-4+29),"") | AU16: =IF(30<=$Q16,INDEX('BAZA PRAC'!$D$4:$D$61,$P16-4+30),"") | AV16: =IF(31<=$Q16,INDEX('BAZA PRAC'!$D$4:$D$61,$P16-4+31),"") | AW16: =IF(32<=$Q16,INDEX('BAZA PRAC'!$D$4:$D$61,$P16-4+32),"") | AX16: =IF(33<=$Q16,INDEX('BAZA PRAC'!$D$4:$D$61,$P16-4+33),"") | AY16: =IF(34<=$Q16,INDEX('BAZA PRAC'!$D$4:$D$61,$P16-4+34),"") | AZ16: =IF(35<=$Q16,INDEX('BAZA PRAC'!$D$4:$D$61,$P16-4+35),"") | BA16: =IF(36<=$Q16,INDEX('BAZA PRAC'!$D$4:$D$61,$P16-4+36),"") | BB16: =IF(37<=$Q16,INDEX('BAZA PRAC'!$D$4:$D$61,$P16-4+37),"") | BC16: =IF(38<=$Q16,INDEX('BAZA PRAC'!$D$4:$D$61,$P16-4+38),"") | BD16: =IF(39<=$Q16,INDEX('BAZA PRAC'!$D$4:$D$61,$P16-4+39),"") | BE16: =IF(40<=$Q16,INDEX('BAZA PRAC'!$D$4:$D$61,$P16-4+40),"") | BF16: =IF(41<=$Q16,INDEX('BAZA PRAC'!$D$4:$D$61,$P16-4+41),"") | BG16: =IF(42<=$Q16,INDEX('BAZA PRAC'!$D$4:$D$61,$P16-4+42),"") | BH16: =IF(43<=$Q16,INDEX('BAZA PRAC'!$D$4:$D$61,$P16-4+43),"") | BI16: =IF(44<=$Q16,INDEX('BAZA PRAC'!$D$4:$D$61,$P16-4+44),"") | BJ16: =IF(45<=$Q16,INDEX('BAZA PRAC'!$D$4:$D$61,$P16-4+45),"") | BK16: =IF(46<=$Q16,INDEX('BAZA PRAC'!$D$4:$D$61,$P16-4+46),"") | BL16: =IF(47<=$Q16,INDEX('BAZA PRAC'!$D$4:$D$61,$P16-4+47),"") | BM16: =IF(48<=$Q16,INDEX('BAZA PRAC'!$D$4:$D$61,$P16-4+48),"") | BN16: =IF(49<=$Q16,INDEX('BAZA PRAC'!$D$4:$D$61,$P16-4+49),"") | BO16: =IF(50<=$Q16,INDEX('BAZA PRAC'!$D$4:$D$61,$P16-4+50),"") | BP16: =IF(51<=$Q16,INDEX('BAZA PRAC'!$D$4:$D$61,$P16-4+51),"") | BQ16: =IF(52<=$Q16,INDEX('BAZA PRAC'!$D$4:$D$61,$P16-4+52),"") | BR16: =IF(53<=$Q16,INDEX('BAZA PRAC'!$D$4:$D$61,$P16-4+53),"") | BS16: =IF(54<=$Q16,INDEX('BAZA PRAC'!$D$4:$D$61,$P16-4+54),"") | BT16: =IF(55<=$Q16,INDEX('BAZA PRAC'!$D$4:$D$61,$P16-4+55),"") | BU16: =IF(56<=$Q16,INDEX('BAZA PRAC'!$D$4:$D$61,$P16-4+56),"") | BV16: =IF(57<=$Q16,INDEX('BAZA PRAC'!$D$4:$D$61,$P16-4+57),"") | BW16: =IF(58<=$Q16,INDEX('BAZA PRAC'!$D$4:$D$61,$P16-4+58),"")
A17: =IF($D17="","",COUNTA($D$11:$D17)) | B17: =IF($BX17<>"",$BX17,IF($D17="","",IFERROR(INDEX('BAZA PRAC'!$A$4:$A$61,MATCH($D17,'BAZA PRAC'!$D$4:$D$61,0)),""))) | E17: =IF($BY17<>"",$BY17,IF($D17="","",IFERROR(INDEX('BAZA PRAC'!$E$4:$E$61,MATCH($D17,'BAZA PRAC'!$D$4:$D$61,0)),""))) | J17: =IF($D17="","",N(G17)+N(H17)+N(I17)) | K17: =IF($D17="","",N(F17)*J17) | M17: =IF($D17="","",K17*(1-N(L17))) | P17: =IFERROR(VLOOKUP($C17,USTAWIENIA!$E$2:$H$8,3,FALSE),4) | Q17: =IFERROR(VLOOKUP($C17,USTAWIENIA!$E$2:$H$8,4,FALSE),58) | R17: =IF(1<=$Q17,INDEX('BAZA PRAC'!$D$4:$D$61,$P17-4+1),"") | S17: =IF(2<=$Q17,INDEX('BAZA PRAC'!$D$4:$D$61,$P17-4+2),"") | T17: =IF(3<=$Q17,INDEX('BAZA PRAC'!$D$4:$D$61,$P17-4+3),"") | U17: =IF(4<=$Q17,INDEX('BAZA PRAC'!$D$4:$D$61,$P17-4+4),"") | V17: =IF(5<=$Q17,INDEX('BAZA PRAC'!$D$4:$D$61,$P17-4+5),"") | W17: =IF(6<=$Q17,INDEX('BAZA PRAC'!$D$4:$D$61,$P17-4+6),"") | X17: =IF(7<=$Q17,INDEX('BAZA PRAC'!$D$4:$D$61,$P17-4+7),"") | Y17: =IF(8<=$Q17,INDEX('BAZA PRAC'!$D$4:$D$61,$P17-4+8),"") | Z17: =IF(9<=$Q17,INDEX('BAZA PRAC'!$D$4:$D$61,$P17-4+9),"") | AA17: =IF(10<=$Q17,INDEX('BAZA PRAC'!$D$4:$D$61,$P17-4+10),"") | AB17: =IF(11<=$Q17,INDEX('BAZA PRAC'!$D$4:$D$61,$P17-4+11),"") | AC17: =IF(12<=$Q17,INDEX('BAZA PRAC'!$D$4:$D$61,$P17-4+12),"") | AD17: =IF(13<=$Q17,INDEX('BAZA PRAC'!$D$4:$D$61,$P17-4+13),"") | AE17: =IF(14<=$Q17,INDEX('BAZA PRAC'!$D$4:$D$61,$P17-4+14),"") | AF17: =IF(15<=$Q17,INDEX('BAZA PRAC'!$D$4:$D$61,$P17-4+15),"") | AG17: =IF(16<=$Q17,INDEX('BAZA PRAC'!$D$4:$D$61,$P17-4+16),"") | AH17: =IF(17<=$Q17,INDEX('BAZA PRAC'!$D$4:$D$61,$P17-4+17),"") | AI17: =IF(18<=$Q17,INDEX('BAZA PRAC'!$D$4:$D$61,$P17-4+18),"") | AJ17: =IF(19<=$Q17,INDEX('BAZA PRAC'!$D$4:$D$61,$P17-4+19),"") | AK17: =IF(20<=$Q17,INDEX('BAZA PRAC'!$D$4:$D$61,$P17-4+20),"") | AL17: =IF(21<=$Q17,INDEX('BAZA PRAC'!$D$4:$D$61,$P17-4+21),"") | AM17: =IF(22<=$Q17,INDEX('BAZA PRAC'!$D$4:$D$61,$P17-4+22),"") | AN17: =IF(23<=$Q17,INDEX('BAZA PRAC'!$D$4:$D$61,$P17-4+23),"") | AO17: =IF(24<=$Q17,INDEX('BAZA PRAC'!$D$4:$D$61,$P17-4+24),"") | AP17: =IF(25<=$Q17,INDEX('BAZA PRAC'!$D$4:$D$61,$P17-4+25),"") | AQ17: =IF(26<=$Q17,INDEX('BAZA PRAC'!$D$4:$D$61,$P17-4+26),"") | AR17: =IF(27<=$Q17,INDEX('BAZA PRAC'!$D$4:$D$61,$P17-4+27),"") | AS17: =IF(28<=$Q17,INDEX('BAZA PRAC'!$D$4:$D$61,$P17-4+28),"") | AT17: =IF(29<=$Q17,INDEX('BAZA PRAC'!$D$4:$D$61,$P17-4+29),"") | AU17: =IF(30<=$Q17,INDEX('BAZA PRAC'!$D$4:$D$61,$P17-4+30),"") | AV17: =IF(31<=$Q17,INDEX('BAZA PRAC'!$D$4:$D$61,$P17-4+31),"") | AW17: =IF(32<=$Q17,INDEX('BAZA PRAC'!$D$4:$D$61,$P17-4+32),"") | AX17: =IF(33<=$Q17,INDEX('BAZA PRAC'!$D$4:$D$61,$P17-4+33),"") | AY17: =IF(34<=$Q17,INDEX('BAZA PRAC'!$D$4:$D$61,$P17-4+34),"") | AZ17: =IF(35<=$Q17,INDEX('BAZA PRAC'!$D$4:$D$61,$P17-4+35),"") | BA17: =IF(36<=$Q17,INDEX('BAZA PRAC'!$D$4:$D$61,$P17-4+36),"") | BB17: =IF(37<=$Q17,INDEX('BAZA PRAC'!$D$4:$D$61,$P17-4+37),"") | BC17: =IF(38<=$Q17,INDEX('BAZA PRAC'!$D$4:$D$61,$P17-4+38),"") | BD17: =IF(39<=$Q17,INDEX('BAZA PRAC'!$D$4:$D$61,$P17-4+39),"") | BE17: =IF(40<=$Q17,INDEX('BAZA PRAC'!$D$4:$D$61,$P17-4+40),"") | BF17: =IF(41<=$Q17,INDEX('BAZA PRAC'!$D$4:$D$61,$P17-4+41),"") | BG17: =IF(42<=$Q17,INDEX('BAZA PRAC'!$D$4:$D$61,$P17-4+42),"") | BH17: =IF(43<=$Q17,INDEX('BAZA PRAC'!$D$4:$D$61,$P17-4+43),"") | BI17: =IF(44<=$Q17,INDEX('BAZA PRAC'!$D$4:$D$61,$P17-4+44),"") | BJ17: =IF(45<=$Q17,INDEX('BAZA PRAC'!$D$4:$D$61,$P17-4+45),"") | BK17: =IF(46<=$Q17,INDEX('BAZA PRAC'!$D$4:$D$61,$P17-4+46),"") | BL17: =IF(47<=$Q17,INDEX('BAZA PRAC'!$D$4:$D$61,$P17-4+47),"") | BM17: =IF(48<=$Q17,INDEX('BAZA PRAC'!$D$4:$D$61,$P17-4+48),"") | BN17: =IF(49<=$Q17,INDEX('BAZA PRAC'!$D$4:$D$61,$P17-4+49),"") | BO17: =IF(50<=$Q17,INDEX('BAZA PRAC'!$D$4:$D$61,$P17-4+50),"") | BP17: =IF(51<=$Q17,INDEX('BAZA PRAC'!$D$4:$D$61,$P17-4+51),"") | BQ17: =IF(52<=$Q17,INDEX('BAZA PRAC'!$D$4:$D$61,$P17-4+52),"") | BR17: =IF(53<=$Q17,INDEX('BAZA PRAC'!$D$4:$D$61,$P17-4+53),"") | BS17: =IF(54<=$Q17,INDEX('BAZA PRAC'!$D$4:$D$61,$P17-4+54),"") | BT17: =IF(55<=$Q17,INDEX('BAZA PRAC'!$D$4:$D$61,$P17-4+55),"") | BU17: =IF(56<=$Q17,INDEX('BAZA PRAC'!$D$4:$D$61,$P17-4+56),"") | BV17: =IF(57<=$Q17,INDEX('BAZA PRAC'!$D$4:$D$61,$P17-4+57),"") | BW17: =IF(58<=$Q17,INDEX('BAZA PRAC'!$D$4:$D$61,$P17-4+58),"")
A18: =IF($D18="","",COUNTA($D$11:$D18)) | B18: =IF($BX18<>"",$BX18,IF($D18="","",IFERROR(INDEX('BAZA PRAC'!$A$4:$A$61,MATCH($D18,'BAZA PRAC'!$D$4:$D$61,0)),""))) | E18: =IF($BY18<>"",$BY18,IF($D18="","",IFERROR(INDEX('BAZA PRAC'!$E$4:$E$61,MATCH($D18,'BAZA PRAC'!$D$4:$D$61,0)),""))) | J18: =IF($D18="","",N(G18)+N(H18)+N(I18)) | K18: =IF($D18="","",N(F18)*J18) | M18: =IF($D18="","",K18*(1-N(L18))) | P18: =IFERROR(VLOOKUP($C18,USTAWIENIA!$E$2:$H$8,3,FALSE),4) | Q18: =IFERROR(VLOOKUP($C18,USTAWIENIA!$E$2:$H$8,4,FALSE),58) | R18: =IF(1<=$Q18,INDEX('BAZA PRAC'!$D$4:$D$61,$P18-4+1),"") | S18: =IF(2<=$Q18,INDEX('BAZA PRAC'!$D$4:$D$61,$P18-4+2),"") | T18: =IF(3<=$Q18,INDEX('BAZA PRAC'!$D$4:$D$61,$P18-4+3),"") | U18: =IF(4<=$Q18,INDEX('BAZA PRAC'!$D$4:$D$61,$P18-4+4),"") | V18: =IF(5<=$Q18,INDEX('BAZA PRAC'!$D$4:$D$61,$P18-4+5),"") | W18: =IF(6<=$Q18,INDEX('BAZA PRAC'!$D$4:$D$61,$P18-4+6),"") | X18: =IF(7<=$Q18,INDEX('BAZA PRAC'!$D$4:$D$61,$P18-4+7),"") | Y18: =IF(8<=$Q18,INDEX('BAZA PRAC'!$D$4:$D$61,$P18-4+8),"") | Z18: =IF(9<=$Q18,INDEX('BAZA PRAC'!$D$4:$D$61,$P18-4+9),"") | AA18: =IF(10<=$Q18,INDEX('BAZA PRAC'!$D$4:$D$61,$P18-4+10),"") | AB18: =IF(11<=$Q18,INDEX('BAZA PRAC'!$D$4:$D$61,$P18-4+11),"") | AC18: =IF(12<=$Q18,INDEX('BAZA PRAC'!$D$4:$D$61,$P18-4+12),"") | AD18: =IF(13<=$Q18,INDEX('BAZA PRAC'!$D$4:$D$61,$P18-4+13),"") | AE18: =IF(14<=$Q18,INDEX('BAZA PRAC'!$D$4:$D$61,$P18-4+14),"") | AF18: =IF(15<=$Q18,INDEX('BAZA PRAC'!$D$4:$D$61,$P18-4+15),"") | AG18: =IF(16<=$Q18,INDEX('BAZA PRAC'!$D$4:$D$61,$P18-4+16),"") | AH18: =IF(17<=$Q18,INDEX('BAZA PRAC'!$D$4:$D$61,$P18-4+17),"") | AI18: =IF(18<=$Q18,INDEX('BAZA PRAC'!$D$4:$D$61,$P18-4+18),"") | AJ18: =IF(19<=$Q18,INDEX('BAZA PRAC'!$D$4:$D$61,$P18-4+19),"") | AK18: =IF(20<=$Q18,INDEX('BAZA PRAC'!$D$4:$D$61,$P18-4+20),"") | AL18: =IF(21<=$Q18,INDEX('BAZA PRAC'!$D$4:$D$61,$P18-4+21),"") | AM18: =IF(22<=$Q18,INDEX('BAZA PRAC'!$D$4:$D$61,$P18-4+22),"") | AN18: =IF(23<=$Q18,INDEX('BAZA PRAC'!$D$4:$D$61,$P18-4+23),"") | AO18: =IF(24<=$Q18,INDEX('BAZA PRAC'!$D$4:$D$61,$P18-4+24),"") | AP18: =IF(25<=$Q18,INDEX('BAZA PRAC'!$D$4:$D$61,$P18-4+25),"") | AQ18: =IF(26<=$Q18,INDEX('BAZA PRAC'!$D$4:$D$61,$P18-4+26),"") | AR18: =IF(27<=$Q18,INDEX('BAZA PRAC'!$D$4:$D$61,$P18-4+27),"") | AS18: =IF(28<=$Q18,INDEX('BAZA PRAC'!$D$4:$D$61,$P18-4+28),"") | AT18: =IF(29<=$Q18,INDEX('BAZA PRAC'!$D$4:$D$61,$P18-4+29),"") | AU18: =IF(30<=$Q18,INDEX('BAZA PRAC'!$D$4:$D$61,$P18-4+30),"") | AV18: =IF(31<=$Q18,INDEX('BAZA PRAC'!$D$4:$D$61,$P18-4+31),"") | AW18: =IF(32<=$Q18,INDEX('BAZA PRAC'!$D$4:$D$61,$P18-4+32),"") | AX18: =IF(33<=$Q18,INDEX('BAZA PRAC'!$D$4:$D$61,$P18-4+33),"") | AY18: =IF(34<=$Q18,INDEX('BAZA PRAC'!$D$4:$D$61,$P18-4+34),"") | AZ18: =IF(35<=$Q18,INDEX('BAZA PRAC'!$D$4:$D$61,$P18-4+35),"") | BA18: =IF(36<=$Q18,INDEX('BAZA PRAC'!$D$4:$D$61,$P18-4+36),"") | BB18: =IF(37<=$Q18,INDEX('BAZA PRAC'!$D$4:$D$61,$P18-4+37),"") | BC18: =IF(38<=$Q18,INDEX('BAZA PRAC'!$D$4:$D$61,$P18-4+38),"") | BD18: =IF(39<=$Q18,INDEX('BAZA PRAC'!$D$4:$D$61,$P18-4+39),"") | BE18: =IF(40<=$Q18,INDEX('BAZA PRAC'!$D$4:$D$61,$P18-4+40),"") | BF18: =IF(41<=$Q18,INDEX('BAZA PRAC'!$D$4:$D$61,$P18-4+41),"") | BG18: =IF(42<=$Q18,INDEX('BAZA PRAC'!$D$4:$D$61,$P18-4+42),"") | BH18: =IF(43<=$Q18,INDEX('BAZA PRAC'!$D$4:$D$61,$P18-4+43),"") | BI18: =IF(44<=$Q18,INDEX('BAZA PRAC'!$D$4:$D$61,$P18-4+44),"") | BJ18: =IF(45<=$Q18,INDEX('BAZA PRAC'!$D$4:$D$61,$P18-4+45),"") | BK18: =IF(46<=$Q18,INDEX('BAZA PRAC'!$D$4:$D$61,$P18-4+46),"") | BL18: =IF(47<=$Q18,INDEX('BAZA PRAC'!$D$4:$D$61,$P18-4+47),"") | BM18: =IF(48<=$Q18,INDEX('BAZA PRAC'!$D$4:$D$61,$P18-4+48),"") | BN18: =IF(49<=$Q18,INDEX('BAZA PRAC'!$D$4:$D$61,$P18-4+49),"") | BO18: =IF(50<=$Q18,INDEX('BAZA PRAC'!$D$4:$D$61,$P18-4+50),"") | BP18: =IF(51<=$Q18,INDEX('BAZA PRAC'!$D$4:$D$61,$P18-4+51),"") | BQ18: =IF(52<=$Q18,INDEX('BAZA PRAC'!$D$4:$D$61,$P18-4+52),"") | BR18: =IF(53<=$Q18,INDEX('BAZA PRAC'!$D$4:$D$61,$P18-4+53),"") | BS18: =IF(54<=$Q18,INDEX('BAZA PRAC'!$D$4:$D$61,$P18-4+54),"") | BT18: =IF(55<=$Q18,INDEX('BAZA PRAC'!$D$4:$D$61,$P18-4+55),"") | BU18: =IF(56<=$Q18,INDEX('BAZA PRAC'!$D$4:$D$61,$P18-4+56),"") | BV18: =IF(57<=$Q18,INDEX('BAZA PRAC'!$D$4:$D$61,$P18-4+57),"") | BW18: =IF(58<=$Q18,INDEX('BAZA PRAC'!$D$4:$D$61,$P18-4+58),"")
A19: =IF($D19="","",COUNTA($D$11:$D19)) | B19: =IF($BX19<>"",$BX19,IF($D19="","",IFERROR(INDEX('BAZA PRAC'!$A$4:$A$61,MATCH($D19,'BAZA PRAC'!$D$4:$D$61,0)),""))) | E19: =IF($BY19<>"",$BY19,IF($D19="","",IFERROR(INDEX('BAZA PRAC'!$E$4:$E$61,MATCH($D19,'BAZA PRAC'!$D$4:$D$61,0)),""))) | J19: =IF($D19="","",N(G19)+N(H19)+N(I19)) | K19: =IF($D19="","",N(F19)*J19) | M19: =IF($D19="","",K19*(1-N(L19))) | P19: =IFERROR(VLOOKUP($C19,USTAWIENIA!$E$2:$H$8,3,FALSE),4) | Q19: =IFERROR(VLOOKUP($C19,USTAWIENIA!$E$2:$H$8,4,FALSE),58) | R19: =IF(1<=$Q19,INDEX('BAZA PRAC'!$D$4:$D$61,$P19-4+1),"") | S19: =IF(2<=$Q19,INDEX('BAZA PRAC'!$D$4:$D$61,$P19-4+2),"") | T19: =IF(3<=$Q19,INDEX('BAZA PRAC'!$D$4:$D$61,$P19-4+3),"") | U19: =IF(4<=$Q19,INDEX('BAZA PRAC'!$D$4:$D$61,$P19-4+4),"") | V19: =IF(5<=$Q19,INDEX('BAZA PRAC'!$D$4:$D$61,$P19-4+5),"") | W19: =IF(6<=$Q19,INDEX('BAZA PRAC'!$D$4:$D$61,$P19-4+6),"") | X19: =IF(7<=$Q19,INDEX('BAZA PRAC'!$D$4:$D$61,$P19-4+7),"") | Y19: =IF(8<=$Q19,INDEX('BAZA PRAC'!$D$4:$D$61,$P19-4+8),"") | Z19: =IF(9<=$Q19,INDEX('BAZA PRAC'!$D$4:$D$61,$P19-4+9),"") | AA19: =IF(10<=$Q19,INDEX('BAZA PRAC'!$D$4:$D$61,$P19-4+10),"") | AB19: =IF(11<=$Q19,INDEX('BAZA PRAC'!$D$4:$D$61,$P19-4+11),"") | AC19: =IF(12<=$Q19,INDEX('BAZA PRAC'!$D$4:$D$61,$P19-4+12),"") | AD19: =IF(13<=$Q19,INDEX('BAZA PRAC'!$D$4:$D$61,$P19-4+13),"") | AE19: =IF(14<=$Q19,INDEX('BAZA PRAC'!$D$4:$D$61,$P19-4+14),"") | AF19: =IF(15<=$Q19,INDEX('BAZA PRAC'!$D$4:$D$61,$P19-4+15),"") | AG19: =IF(16<=$Q19,INDEX('BAZA PRAC'!$D$4:$D$61,$P19-4+16),"") | AH19: =IF(17<=$Q19,INDEX('BAZA PRAC'!$D$4:$D$61,$P19-4+17),"") | AI19: =IF(18<=$Q19,INDEX('BAZA PRAC'!$D$4:$D$61,$P19-4+18),"") | AJ19: =IF(19<=$Q19,INDEX('BAZA PRAC'!$D$4:$D$61,$P19-4+19),"") | AK19: =IF(20<=$Q19,INDEX('BAZA PRAC'!$D$4:$D$61,$P19-4+20),"") | AL19: =IF(21<=$Q19,INDEX('BAZA PRAC'!$D$4:$D$61,$P19-4+21),"") | AM19: =IF(22<=$Q19,INDEX('BAZA PRAC'!$D$4:$D$61,$P19-4+22),"") | AN19: =IF(23<=$Q19,INDEX('BAZA PRAC'!$D$4:$D$61,$P19-4+23),"") | AO19: =IF(24<=$Q19,INDEX('BAZA PRAC'!$D$4:$D$61,$P19-4+24),"") | AP19: =IF(25<=$Q19,INDEX('BAZA PRAC'!$D$4:$D$61,$P19-4+25),"") | AQ19: =IF(26<=$Q19,INDEX('BAZA PRAC'!$D$4:$D$61,$P19-4+26),"") | AR19: =IF(27<=$Q19,INDEX('BAZA PRAC'!$D$4:$D$61,$P19-4+27),"") | AS19: =IF(28<=$Q19,INDEX('BAZA PRAC'!$D$4:$D$61,$P19-4+28),"") | AT19: =IF(29<=$Q19,INDEX('BAZA PRAC'!$D$4:$D$61,$P19-4+29),"") | AU19: =IF(30<=$Q19,INDEX('BAZA PRAC'!$D$4:$D$61,$P19-4+30),"") | AV19: =IF(31<=$Q19,INDEX('BAZA PRAC'!$D$4:$D$61,$P19-4+31),"") | AW19: =IF(32<=$Q19,INDEX('BAZA PRAC'!$D$4:$D$61,$P19-4+32),"") | AX19: =IF(33<=$Q19,INDEX('BAZA PRAC'!$D$4:$D$61,$P19-4+33),"") | AY19: =IF(34<=$Q19,INDEX('BAZA PRAC'!$D$4:$D$61,$P19-4+34),"") | AZ19: =IF(35<=$Q19,INDEX('BAZA PRAC'!$D$4:$D$61,$P19-4+35),"") | BA19: =IF(36<=$Q19,INDEX('BAZA PRAC'!$D$4:$D$61,$P19-4+36),"") | BB19: =IF(37<=$Q19,INDEX('BAZA PRAC'!$D$4:$D$61,$P19-4+37),"") | BC19: =IF(38<=$Q19,INDEX('BAZA PRAC'!$D$4:$D$61,$P19-4+38),"") | BD19: =IF(39<=$Q19,INDEX('BAZA PRAC'!$D$4:$D$61,$P19-4+39),"") | BE19: =IF(40<=$Q19,INDEX('BAZA PRAC'!$D$4:$D$61,$P19-4+40),"") | BF19: =IF(41<=$Q19,INDEX('BAZA PRAC'!$D$4:$D$61,$P19-4+41),"") | BG19: =IF(42<=$Q19,INDEX('BAZA PRAC'!$D$4:$D$61,$P19-4+42),"") | BH19: =IF(43<=$Q19,INDEX('BAZA PRAC'!$D$4:$D$61,$P19-4+43),"") | BI19: =IF(44<=$Q19,INDEX('BAZA PRAC'!$D$4:$D$61,$P19-4+44),"") | BJ19: =IF(45<=$Q19,INDEX('BAZA PRAC'!$D$4:$D$61,$P19-4+45),"") | BK19: =IF(46<=$Q19,INDEX('BAZA PRAC'!$D$4:$D$61,$P19-4+46),"") | BL19: =IF(47<=$Q19,INDEX('BAZA PRAC'!$D$4:$D$61,$P19-4+47),"") | BM19: =IF(48<=$Q19,INDEX('BAZA PRAC'!$D$4:$D$61,$P19-4+48),"") | BN19: =IF(49<=$Q19,INDEX('BAZA PRAC'!$D$4:$D$61,$P19-4+49),"") | BO19: =IF(50<=$Q19,INDEX('BAZA PRAC'!$D$4:$D$61,$P19-4+50),"") | BP19: =IF(51<=$Q19,INDEX('BAZA PRAC'!$D$4:$D$61,$P19-4+51),"") | BQ19: =IF(52<=$Q19,INDEX('BAZA PRAC'!$D$4:$D$61,$P19-4+52),"") | BR19: =IF(53<=$Q19,INDEX('BAZA PRAC'!$D$4:$D$61,$P19-4+53),"") | BS19: =IF(54<=$Q19,INDEX('BAZA PRAC'!$D$4:$D$61,$P19-4+54),"") | BT19: =IF(55<=$Q19,INDEX('BAZA PRAC'!$D$4:$D$61,$P19-4+55),"") | BU19: =IF(56<=$Q19,INDEX('BAZA PRAC'!$D$4:$D$61,$P19-4+56),"") | BV19: =IF(57<=$Q19,INDEX('BAZA PRAC'!$D$4:$D$61,$P19-4+57),"") | BW19: =IF(58<=$Q19,INDEX('BAZA PRAC'!$D$4:$D$61,$P19-4+58),"")
A20: =IF($D20="","",COUNTA($D$11:$D20)) | B20: =IF($BX20<>"",$BX20,IF($D20="","",IFERROR(INDEX('BAZA PRAC'!$A$4:$A$61,MATCH($D20,'BAZA PRAC'!$D$4:$D$61,0)),""))) | E20: =IF($BY20<>"",$BY20,IF($D20="","",IFERROR(INDEX('BAZA PRAC'!$E$4:$E$61,MATCH($D20,'BAZA PRAC'!$D$4:$D$61,0)),""))) | J20: =IF($D20="","",N(G20)+N(H20)+N(I20)) | K20: =IF($D20="","",N(F20)*J20) | M20: =IF($D20="","",K20*(1-N(L20))) | P20: =IFERROR(VLOOKUP($C20,USTAWIENIA!$E$2:$H$8,3,FALSE),4) | Q20: =IFERROR(VLOOKUP($C20,USTAWIENIA!$E$2:$H$8,4,FALSE),58) | R20: =IF(1<=$Q20,INDEX('BAZA PRAC'!$D$4:$D$61,$P20-4+1),"") | S20: =IF(2<=$Q20,INDEX('BAZA PRAC'!$D$4:$D$61,$P20-4+2),"") | T20: =IF(3<=$Q20,INDEX('BAZA PRAC'!$D$4:$D$61,$P20-4+3),"") | U20: =IF(4<=$Q20,INDEX('BAZA PRAC'!$D$4:$D$61,$P20-4+4),"") | V20: =IF(5<=$Q20,INDEX('BAZA PRAC'!$D$4:$D$61,$P20-4+5),"") | W20: =IF(6<=$Q20,INDEX('BAZA PRAC'!$D$4:$D$61,$P20-4+6),"") | X20: =IF(7<=$Q20,INDEX('BAZA PRAC'!$D$4:$D$61,$P20-4+7),"") | Y20: =IF(8<=$Q20,INDEX('BAZA PRAC'!$D$4:$D$61,$P20-4+8),"") | Z20: =IF(9<=$Q20,INDEX('BAZA PRAC'!$D$4:$D$61,$P20-4+9),"") | AA20: =IF(10<=$Q20,INDEX('BAZA PRAC'!$D$4:$D$61,$P20-4+10),"") | AB20: =IF(11<=$Q20,INDEX('BAZA PRAC'!$D$4:$D$61,$P20-4+11),"") | AC20: =IF(12<=$Q20,INDEX('BAZA PRAC'!$D$4:$D$61,$P20-4+12),"") | AD20: =IF(13<=$Q20,INDEX('BAZA PRAC'!$D$4:$D$61,$P20-4+13),"") | AE20: =IF(14<=$Q20,INDEX('BAZA PRAC'!$D$4:$D$61,$P20-4+14),"") | AF20: =IF(15<=$Q20,INDEX('BAZA PRAC'!$D$4:$D$61,$P20-4+15),"") | AG20: =IF(16<=$Q20,INDEX('BAZA PRAC'!$D$4:$D$61,$P20-4+16),"") | AH20: =IF(17<=$Q20,INDEX('BAZA PRAC'!$D$4:$D$61,$P20-4+17),"") | AI20: =IF(18<=$Q20,INDEX('BAZA PRAC'!$D$4:$D$61,$P20-4+18),"") | AJ20: =IF(19<=$Q20,INDEX('BAZA PRAC'!$D$4:$D$61,$P20-4+19),"") | AK20: =IF(20<=$Q20,INDEX('BAZA PRAC'!$D$4:$D$61,$P20-4+20),"") | AL20: =IF(21<=$Q20,INDEX('BAZA PRAC'!$D$4:$D$61,$P20-4+21),"") | AM20: =IF(22<=$Q20,INDEX('BAZA PRAC'!$D$4:$D$61,$P20-4+22),"") | AN20: =IF(23<=$Q20,INDEX('BAZA PRAC'!$D$4:$D$61,$P20-4+23),"") | AO20: =IF(24<=$Q20,INDEX('BAZA PRAC'!$D$4:$D$61,$P20-4+24),"") | AP20: =IF(25<=$Q20,INDEX('BAZA PRAC'!$D$4:$D$61,$P20-4+25),"") | AQ20: =IF(26<=$Q20,INDEX('BAZA PRAC'!$D$4:$D$61,$P20-4+26),"") | AR20: =IF(27<=$Q20,INDEX('BAZA PRAC'!$D$4:$D$61,$P20-4+27),"") | AS20: =IF(28<=$Q20,INDEX('BAZA PRAC'!$D$4:$D$61,$P20-4+28),"") | AT20: =IF(29<=$Q20,INDEX('BAZA PRAC'!$D$4:$D$61,$P20-4+29),"") | AU20: =IF(30<=$Q20,INDEX('BAZA PRAC'!$D$4:$D$61,$P20-4+30),"") | AV20: =IF(31<=$Q20,INDEX('BAZA PRAC'!$D$4:$D$61,$P20-4+31),"") | AW20: =IF(32<=$Q20,INDEX('BAZA PRAC'!$D$4:$D$61,$P20-4+32),"") | AX20: =IF(33<=$Q20,INDEX('BAZA PRAC'!$D$4:$D$61,$P20-4+33),"") | AY20: =IF(34<=$Q20,INDEX('BAZA PRAC'!$D$4:$D$61,$P20-4+34),"") | AZ20: =IF(35<=$Q20,INDEX('BAZA PRAC'!$D$4:$D$61,$P20-4+35),"") | BA20: =IF(36<=$Q20,INDEX('BAZA PRAC'!$D$4:$D$61,$P20-4+36),"") | BB20: =IF(37<=$Q20,INDEX('BAZA PRAC'!$D$4:$D$61,$P20-4+37),"") | BC20: =IF(38<=$Q20,INDEX('BAZA PRAC'!$D$4:$D$61,$P20-4+38),"") | BD20: =IF(39<=$Q20,INDEX('BAZA PRAC'!$D$4:$D$61,$P20-4+39),"") | BE20: =IF(40<=$Q20,INDEX('BAZA PRAC'!$D$4:$D$61,$P20-4+40),"") | BF20: =IF(41<=$Q20,INDEX('BAZA PRAC'!$D$4:$D$61,$P20-4+41),"") | BG20: =IF(42<=$Q20,INDEX('BAZA PRAC'!$D$4:$D$61,$P20-4+42),"") | BH20: =IF(43<=$Q20,INDEX('BAZA PRAC'!$D$4:$D$61,$P20-4+43),"") | BI20: =IF(44<=$Q20,INDEX('BAZA PRAC'!$D$4:$D$61,$P20-4+44),"") | BJ20: =IF(45<=$Q20,INDEX('BAZA PRAC'!$D$4:$D$61,$P20-4+45),"") | BK20: =IF(46<=$Q20,INDEX('BAZA PRAC'!$D$4:$D$61,$P20-4+46),"") | BL20: =IF(47<=$Q20,INDEX('BAZA PRAC'!$D$4:$D$61,$P20-4+47),"") | BM20: =IF(48<=$Q20,INDEX('BAZA PRAC'!$D$4:$D$61,$P20-4+48),"") | BN20: =IF(49<=$Q20,INDEX('BAZA PRAC'!$D$4:$D$61,$P20-4+49),"") | BO20: =IF(50<=$Q20,INDEX('BAZA PRAC'!$D$4:$D$61,$P20-4+50),"") | BP20: =IF(51<=$Q20,INDEX('BAZA PRAC'!$D$4:$D$61,$P20-4+51),"") | BQ20: =IF(52<=$Q20,INDEX('BAZA PRAC'!$D$4:$D$61,$P20-4+52),"") | BR20: =IF(53<=$Q20,INDEX('BAZA PRAC'!$D$4:$D$61,$P20-4+53),"") | BS20: =IF(54<=$Q20,INDEX('BAZA PRAC'!$D$4:$D$61,$P20-4+54),"") | BT20: =IF(55<=$Q20,INDEX('BAZA PRAC'!$D$4:$D$61,$P20-4+55),"") | BU20: =IF(56<=$Q20,INDEX('BAZA PRAC'!$D$4:$D$61,$P20-4+56),"") | BV20: =IF(57<=$Q20,INDEX('BAZA PRAC'!$D$4:$D$61,$P20-4+57),"") | BW20: =IF(58<=$Q20,INDEX('BAZA PRAC'!$D$4:$D$61,$P20-4+58),"")
A21: =IF($D21="","",COUNTA($D$11:$D21)) | B21: =IF($BX21<>"",$BX21,IF($D21="","",IFERROR(INDEX('BAZA PRAC'!$A$4:$A$61,MATCH($D21,'BAZA PRAC'!$D$4:$D$61,0)),""))) | E21: =IF($BY21<>"",$BY21,IF($D21="","",IFERROR(INDEX('BAZA PRAC'!$E$4:$E$61,MATCH($D21,'BAZA PRAC'!$D$4:$D$61,0)),""))) | J21: =IF($D21="","",N(G21)+N(H21)+N(I21)) | K21: =IF($D21="","",N(F21)*J21) | M21: =IF($D21="","",K21*(1-N(L21))) | P21: =IFERROR(VLOOKUP($C21,USTAWIENIA!$E$2:$H$8,3,FALSE),4) | Q21: =IFERROR(VLOOKUP($C21,USTAWIENIA!$E$2:$H$8,4,FALSE),58) | R21: =IF(1<=$Q21,INDEX('BAZA PRAC'!$D$4:$D$61,$P21-4+1),"") | S21: =IF(2<=$Q21,INDEX('BAZA PRAC'!$D$4:$D$61,$P21-4+2),"") | T21: =IF(3<=$Q21,INDEX('BAZA PRAC'!$D$4:$D$61,$P21-4+3),"") | U21: =IF(4<=$Q21,INDEX('BAZA PRAC'!$D$4:$D$61,$P21-4+4),"") | V21: =IF(5<=$Q21,INDEX('BAZA PRAC'!$D$4:$D$61,$P21-4+5),"") | W21: =IF(6<=$Q21,INDEX('BAZA PRAC'!$D$4:$D$61,$P21-4+6),"") | X21: =IF(7<=$Q21,INDEX('BAZA PRAC'!$D$4:$D$61,$P21-4+7),"") | Y21: =IF(8<=$Q21,INDEX('BAZA PRAC'!$D$4:$D$61,$P21-4+8),"") | Z21: =IF(9<=$Q21,INDEX('BAZA PRAC'!$D$4:$D$61,$P21-4+9),"") | AA21: =IF(10<=$Q21,INDEX('BAZA PRAC'!$D$4:$D$61,$P21-4+10),"") | AB21: =IF(11<=$Q21,INDEX('BAZA PRAC'!$D$4:$D$61,$P21-4+11),"") | AC21: =IF(12<=$Q21,INDEX('BAZA PRAC'!$D$4:$D$61,$P21-4+12),"") | AD21: =IF(13<=$Q21,INDEX('BAZA PRAC'!$D$4:$D$61,$P21-4+13),"") | AE21: =IF(14<=$Q21,INDEX('BAZA PRAC'!$D$4:$D$61,$P21-4+14),"") | AF21: =IF(15<=$Q21,INDEX('BAZA PRAC'!$D$4:$D$61,$P21-4+15),"") | AG21: =IF(16<=$Q21,INDEX('BAZA PRAC'!$D$4:$D$61,$P21-4+16),"") | AH21: =IF(17<=$Q21,INDEX('BAZA PRAC'!$D$4:$D$61,$P21-4+17),"") | AI21: =IF(18<=$Q21,INDEX('BAZA PRAC'!$D$4:$D$61,$P21-4+18),"") | AJ21: =IF(19<=$Q21,INDEX('BAZA PRAC'!$D$4:$D$61,$P21-4+19),"") | AK21: =IF(20<=$Q21,INDEX('BAZA PRAC'!$D$4:$D$61,$P21-4+20),"") | AL21: =IF(21<=$Q21,INDEX('BAZA PRAC'!$D$4:$D$61,$P21-4+21),"") | AM21: =IF(22<=$Q21,INDEX('BAZA PRAC'!$D$4:$D$61,$P21-4+22),"") | AN21: =IF(23<=$Q21,INDEX('BAZA PRAC'!$D$4:$D$61,$P21-4+23),"") | AO21: =IF(24<=$Q21,INDEX('BAZA PRAC'!$D$4:$D$61,$P21-4+24),"") | AP21: =IF(25<=$Q21,INDEX('BAZA PRAC'!$D$4:$D$61,$P21-4+25),"") | AQ21: =IF(26<=$Q21,INDEX('BAZA PRAC'!$D$4:$D$61,$P21-4+26),"") | AR21: =IF(27<=$Q21,INDEX('BAZA PRAC'!$D$4:$D$61,$P21-4+27),"") | AS21: =IF(28<=$Q21,INDEX('BAZA PRAC'!$D$4:$D$61,$P21-4+28),"") | AT21: =IF(29<=$Q21,INDEX('BAZA PRAC'!$D$4:$D$61,$P21-4+29),"") | AU21: =IF(30<=$Q21,INDEX('BAZA PRAC'!$D$4:$D$61,$P21-4+30),"") | AV21: =IF(31<=$Q21,INDEX('BAZA PRAC'!$D$4:$D$61,$P21-4+31),"") | AW21: =IF(32<=$Q21,INDEX('BAZA PRAC'!$D$4:$D$61,$P21-4+32),"") | AX21: =IF(33<=$Q21,INDEX('BAZA PRAC'!$D$4:$D$61,$P21-4+33),"") | AY21: =IF(34<=$Q21,INDEX('BAZA PRAC'!$D$4:$D$61,$P21-4+34),"") | AZ21: =IF(35<=$Q21,INDEX('BAZA PRAC'!$D$4:$D$61,$P21-4+35),"") | BA21: =IF(36<=$Q21,INDEX('BAZA PRAC'!$D$4:$D$61,$P21-4+36),"") | BB21: =IF(37<=$Q21,INDEX('BAZA PRAC'!$D$4:$D$61,$P21-4+37),"") | BC21: =IF(38<=$Q21,INDEX('BAZA PRAC'!$D$4:$D$61,$P21-4+38),"") | BD21: =IF(39<=$Q21,INDEX('BAZA PRAC'!$D$4:$D$61,$P21-4+39),"") | BE21: =IF(40<=$Q21,INDEX('BAZA PRAC'!$D$4:$D$61,$P21-4+40),"") | BF21: =IF(41<=$Q21,INDEX('BAZA PRAC'!$D$4:$D$61,$P21-4+41),"") | BG21: =IF(42<=$Q21,INDEX('BAZA PRAC'!$D$4:$D$61,$P21-4+42),"") | BH21: =IF(43<=$Q21,INDEX('BAZA PRAC'!$D$4:$D$61,$P21-4+43),"") | BI21: =IF(44<=$Q21,INDEX('BAZA PRAC'!$D$4:$D$61,$P21-4+44),"") | BJ21: =IF(45<=$Q21,INDEX('BAZA PRAC'!$D$4:$D$61,$P21-4+45),"") | BK21: =IF(46<=$Q21,INDEX('BAZA PRAC'!$D$4:$D$61,$P21-4+46),"") | BL21: =IF(47<=$Q21,INDEX('BAZA PRAC'!$D$4:$D$61,$P21-4+47),"") | BM21: =IF(48<=$Q21,INDEX('BAZA PRAC'!$D$4:$D$61,$P21-4+48),"") | BN21: =IF(49<=$Q21,INDEX('BAZA PRAC'!$D$4:$D$61,$P21-4+49),"") | BO21: =IF(50<=$Q21,INDEX('BAZA PRAC'!$D$4:$D$61,$P21-4+50),"") | BP21: =IF(51<=$Q21,INDEX('BAZA PRAC'!$D$4:$D$61,$P21-4+51),"") | BQ21: =IF(52<=$Q21,INDEX('BAZA PRAC'!$D$4:$D$61,$P21-4+52),"") | BR21: =IF(53<=$Q21,INDEX('BAZA PRAC'!$D$4:$D$61,$P21-4+53),"") | BS21: =IF(54<=$Q21,INDEX('BAZA PRAC'!$D$4:$D$61,$P21-4+54),"") | BT21: =IF(55<=$Q21,INDEX('BAZA PRAC'!$D$4:$D$61,$P21-4+55),"") | BU21: =IF(56<=$Q21,INDEX('BAZA PRAC'!$D$4:$D$61,$P21-4+56),"") | BV21: =IF(57<=$Q21,INDEX('BAZA PRAC'!$D$4:$D$61,$P21-4+57),"") | BW21: =IF(58<=$Q21,INDEX('BAZA PRAC'!$D$4:$D$61,$P21-4+58),"")
A22: =IF($D22="","",COUNTA($D$11:$D22)) | B22: =IF($BX22<>"",$BX22,IF($D22="","",IFERROR(INDEX('BAZA PRAC'!$A$4:$A$61,MATCH($D22,'BAZA PRAC'!$D$4:$D$61,0)),""))) | E22: =IF($BY22<>"",$BY22,IF($D22="","",IFERROR(INDEX('BAZA PRAC'!$E$4:$E$61,MATCH($D22,'BAZA PRAC'!$D$4:$D$61,0)),""))) | J22: =IF($D22="","",N(G22)+N(H22)+N(I22)) | K22: =IF($D22="","",N(F22)*J22) | M22: =IF($D22="","",K22*(1-N(L22))) | P22: =IFERROR(VLOOKUP($C22,USTAWIENIA!$E$2:$H$8,3,FALSE),4) | Q22: =IFERROR(VLOOKUP($C22,USTAWIENIA!$E$2:$H$8,4,FALSE),58) | R22: =IF(1<=$Q22,INDEX('BAZA PRAC'!$D$4:$D$61,$P22-4+1),"") | S22: =IF(2<=$Q22,INDEX('BAZA PRAC'!$D$4:$D$61,$P22-4+2),"") | T22: =IF(3<=$Q22,INDEX('BAZA PRAC'!$D$4:$D$61,$P22-4+3),"") | U22: =IF(4<=$Q22,INDEX('BAZA PRAC'!$D$4:$D$61,$P22-4+4),"") | V22: =IF(5<=$Q22,INDEX('BAZA PRAC'!$D$4:$D$61,$P22-4+5),"") | W22: =IF(6<=$Q22,INDEX('BAZA PRAC'!$D$4:$D$61,$P22-4+6),"") | X22: =IF(7<=$Q22,INDEX('BAZA PRAC'!$D$4:$D$61,$P22-4+7),"") | Y22: =IF(8<=$Q22,INDEX('BAZA PRAC'!$D$4:$D$61,$P22-4+8),"") | Z22: =IF(9<=$Q22,INDEX('BAZA PRAC'!$D$4:$D$61,$P22-4+9),"") | AA22: =IF(10<=$Q22,INDEX('BAZA PRAC'!$D$4:$D$61,$P22-4+10),"") | AB22: =IF(11<=$Q22,INDEX('BAZA PRAC'!$D$4:$D$61,$P22-4+11),"") | AC22: =IF(12<=$Q22,INDEX('BAZA PRAC'!$D$4:$D$61,$P22-4+12),"") | AD22: =IF(13<=$Q22,INDEX('BAZA PRAC'!$D$4:$D$61,$P22-4+13),"") | AE22: =IF(14<=$Q22,INDEX('BAZA PRAC'!$D$4:$D$61,$P22-4+14),"") | AF22: =IF(15<=$Q22,INDEX('BAZA PRAC'!$D$4:$D$61,$P22-4+15),"") | AG22: =IF(16<=$Q22,INDEX('BAZA PRAC'!$D$4:$D$61,$P22-4+16),"") | AH22: =IF(17<=$Q22,INDEX('BAZA PRAC'!$D$4:$D$61,$P22-4+17),"") | AI22: =IF(18<=$Q22,INDEX('BAZA PRAC'!$D$4:$D$61,$P22-4+18),"") | AJ22: =IF(19<=$Q22,INDEX('BAZA PRAC'!$D$4:$D$61,$P22-4+19),"") | AK22: =IF(20<=$Q22,INDEX('BAZA PRAC'!$D$4:$D$61,$P22-4+20),"") | AL22: =IF(21<=$Q22,INDEX('BAZA PRAC'!$D$4:$D$61,$P22-4+21),"") | AM22: =IF(22<=$Q22,INDEX('BAZA PRAC'!$D$4:$D$61,$P22-4+22),"") | AN22: =IF(23<=$Q22,INDEX('BAZA PRAC'!$D$4:$D$61,$P22-4+23),"") | AO22: =IF(24<=$Q22,INDEX('BAZA PRAC'!$D$4:$D$61,$P22-4+24),"") | AP22: =IF(25<=$Q22,INDEX('BAZA PRAC'!$D$4:$D$61,$P22-4+25),"") | AQ22: =IF(26<=$Q22,INDEX('BAZA PRAC'!$D$4:$D$61,$P22-4+26),"") | AR22: =IF(27<=$Q22,INDEX('BAZA PRAC'!$D$4:$D$61,$P22-4+27),"") | AS22: =IF(28<=$Q22,INDEX('BAZA PRAC'!$D$4:$D$61,$P22-4+28),"") | AT22: =IF(29<=$Q22,INDEX('BAZA PRAC'!$D$4:$D$61,$P22-4+29),"") | AU22: =IF(30<=$Q22,INDEX('BAZA PRAC'!$D$4:$D$61,$P22-4+30),"") | AV22: =IF(31<=$Q22,INDEX('BAZA PRAC'!$D$4:$D$61,$P22-4+31),"") | AW22: =IF(32<=$Q22,INDEX('BAZA PRAC'!$D$4:$D$61,$P22-4+32),"") | AX22: =IF(33<=$Q22,INDEX('BAZA PRAC'!$D$4:$D$61,$P22-4+33),"") | AY22: =IF(34<=$Q22,INDEX('BAZA PRAC'!$D$4:$D$61,$P22-4+34),"") | AZ22: =IF(35<=$Q22,INDEX('BAZA PRAC'!$D$4:$D$61,$P22-4+35),"") | BA22: =IF(36<=$Q22,INDEX('BAZA PRAC'!$D$4:$D$61,$P22-4+36),"") | BB22: =IF(37<=$Q22,INDEX('BAZA PRAC'!$D$4:$D$61,$P22-4+37),"") | BC22: =IF(38<=$Q22,INDEX('BAZA PRAC'!$D$4:$D$61,$P22-4+38),"") | BD22: =IF(39<=$Q22,INDEX('BAZA PRAC'!$D$4:$D$61,$P22-4+39),"") | BE22: =IF(40<=$Q22,INDEX('BAZA PRAC'!$D$4:$D$61,$P22-4+40),"") | BF22: =IF(41<=$Q22,INDEX('BAZA PRAC'!$D$4:$D$61,$P22-4+41),"") | BG22: =IF(42<=$Q22,INDEX('BAZA PRAC'!$D$4:$D$61,$P22-4+42),"") | BH22: =IF(43<=$Q22,INDEX('BAZA PRAC'!$D$4:$D$61,$P22-4+43),"") | BI22: =IF(44<=$Q22,INDEX('BAZA PRAC'!$D$4:$D$61,$P22-4+44),"") | BJ22: =IF(45<=$Q22,INDEX('BAZA PRAC'!$D$4:$D$61,$P22-4+45),"") | BK22: =IF(46<=$Q22,INDEX('BAZA PRAC'!$D$4:$D$61,$P22-4+46),"") | BL22: =IF(47<=$Q22,INDEX('BAZA PRAC'!$D$4:$D$61,$P22-4+47),"") | BM22: =IF(48<=$Q22,INDEX('BAZA PRAC'!$D$4:$D$61,$P22-4+48),"") | BN22: =IF(49<=$Q22,INDEX('BAZA PRAC'!$D$4:$D$61,$P22-4+49),"") | BO22: =IF(50<=$Q22,INDEX('BAZA PRAC'!$D$4:$D$61,$P22-4+50),"") | BP22: =IF(51<=$Q22,INDEX('BAZA PRAC'!$D$4:$D$61,$P22-4+51),"") | BQ22: =IF(52<=$Q22,INDEX('BAZA PRAC'!$D$4:$D$61,$P22-4+52),"") | BR22: =IF(53<=$Q22,INDEX('BAZA PRAC'!$D$4:$D$61,$P22-4+53),"") | BS22: =IF(54<=$Q22,INDEX('BAZA PRAC'!$D$4:$D$61,$P22-4+54),"") | BT22: =IF(55<=$Q22,INDEX('BAZA PRAC'!$D$4:$D$61,$P22-4+55),"") | BU22: =IF(56<=$Q22,INDEX('BAZA PRAC'!$D$4:$D$61,$P22-4+56),"") | BV22: =IF(57<=$Q22,INDEX('BAZA PRAC'!$D$4:$D$61,$P22-4+57),"") | BW22: =IF(58<=$Q22,INDEX('BAZA PRAC'!$D$4:$D$61,$P22-4+58),"")
... A310: =IF($D310="","",COUNTA($D$11:$D310)) | B310: =IF($BX310<>"",$BX310,IF($D310="","",IFERROR(INDEX('BAZA PRAC'!$A$4:$A$61,MATCH($D310,'BAZA PRAC'!$D$4:$D$61,0)),""))) | E310: =IF($BY310<>"",$BY310,IF($D310="","",IFERROR(INDEX('BAZA PRAC'!$E$4:$E$61,MATCH($D310,'BAZA PRAC'!$D$4:$D$61,0)),""))) | J310: =IF($D310="","",N(G310)+N(H310)+N(I310)) | K310: =IF($D310="","",N(F310)*J310) | M310: =IF($D310="","",K310*(1-N(L310))) | P310: =IFERROR(VLOOKUP($C310,USTAWIENIA!$E$2:$H$8,3,FALSE),4) | Q310: =IFERROR(VLOOKUP($C310,USTAWIENIA!$E$2:$H$8,4,FALSE),58) | R310: =IF(1<=$Q310,INDEX('BAZA PRAC'!$D$4:$D$61,$P310-4+1),"") | S310: =IF(2<=$Q310,INDEX('BAZA PRAC'!$D$4:$D$61,$P310-4+2),"") | T310: =IF(3<=$Q310,INDEX('BAZA PRAC'!$D$4:$D$61,$P310-4+3),"") | U310: =IF(4<=$Q310,INDEX('BAZA PRAC'!$D$4:$D$61,$P310-4+4),"") | V310: =IF(5<=$Q310,INDEX('BAZA PRAC'!$D$4:$D$61,$P310-4+5),"") | W310: =IF(6<=$Q310,INDEX('BAZA PRAC'!$D$4:$D$61,$P310-4+6),"") | X310: =IF(7<=$Q310,INDEX('BAZA PRAC'!$D$4:$D$61,$P310-4+7),"") | Y310: =IF(8<=$Q310,INDEX('BAZA PRAC'!$D$4:$D$61,$P310-4+8),"") | Z310: =IF(9<=$Q310,INDEX('BAZA PRAC'!$D$4:$D$61,$P310-4+9),"") | AA310: =IF(10<=$Q310,INDEX('BAZA PRAC'!$D$4:$D$61,$P310-4+10),"") | AB310: =IF(11<=$Q310,INDEX('BAZA PRAC'!$D$4:$D$61,$P310-4+11),"") | AC310: =IF(12<=$Q310,INDEX('BAZA PRAC'!$D$4:$D$61,$P310-4+12),"") | AD310: =IF(13<=$Q310,INDEX('BAZA PRAC'!$D$4:$D$61,$P310-4+13),"") | AE310: =IF(14<=$Q310,INDEX('BAZA PRAC'!$D$4:$D$61,$P310-4+14),"") | AF310: =IF(15<=$Q310,INDEX('BAZA PRAC'!$D$4:$D$61,$P310-4+15),"") | AG310: =IF(16<=$Q310,INDEX('BAZA PRAC'!$D$4:$D$61,$P310-4+16),"") | AH310: =IF(17<=$Q310,INDEX('BAZA PRAC'!$D$4:$D$61,$P310-4+17),"") | AI310: =IF(18<=$Q310,INDEX('BAZA PRAC'!$D$4:$D$61,$P310-4+18),"") | AJ310: =IF(19<=$Q310,INDEX('BAZA PRAC'!$D$4:$D$61,$P310-4+19),"") | AK310: =IF(20<=$Q310,INDEX('BAZA PRAC'!$D$4:$D$61,$P310-4+20),"") | AL310: =IF(21<=$Q310,INDEX('BAZA PRAC'!$D$4:$D$61,$P310-4+21),"") | AM310: =IF(22<=$Q310,INDEX('BAZA PRAC'!$D$4:$D$61,$P310-4+22),"") | AN310: =IF(23<=$Q310,INDEX('BAZA PRAC'!$D$4:$D$61,$P310-4+23),"") | AO310: =IF(24<=$Q310,INDEX('BAZA PRAC'!$D$4:$D$61,$P310-4+24),"") | AP310: =IF(25<=$Q310,INDEX('BAZA PRAC'!$D$4:$D$61,$P310-4+25),"") | AQ310: =IF(26<=$Q310,INDEX('BAZA PRAC'!$D$4:$D$61,$P310-4+26),"") | AR310: =IF(27<=$Q310,INDEX('BAZA PRAC'!$D$4:$D$61,$P310-4+27),"") | AS310: =IF(28<=$Q310,INDEX('BAZA PRAC'!$D$4:$D$61,$P310-4+28),"") | AT310: =IF(29<=$Q310,INDEX('BAZA PRAC'!$D$4:$D$61,$P310-4+29),"") | AU310: =IF(30<=$Q310,INDEX('BAZA PRAC'!$D$4:$D$61,$P310-4+30),"") | AV310: =IF(31<=$Q310,INDEX('BAZA PRAC'!$D$4:$D$61,$P310-4+31),"") | AW310: =IF(32<=$Q310,INDEX('BAZA PRAC'!$D$4:$D$61,$P310-4+32),"") | AX310: =IF(33<=$Q310,INDEX('BAZA PRAC'!$D$4:$D$61,$P310-4+33),"") | AY310: =IF(34<=$Q310,INDEX('BAZA PRAC'!$D$4:$D$61,$P310-4+34),"") | AZ310: =IF(35<=$Q310,INDEX('BAZA PRAC'!$D$4:$D$61,$P310-4+35),"") | BA310: =IF(36<=$Q310,INDEX('BAZA PRAC'!$D$4:$D$61,$P310-4+36),"") | BB310: =IF(37<=$Q310,INDEX('BAZA PRAC'!$D$4:$D$61,$P310-4+37),"") | BC310: =IF(38<=$Q310,INDEX('BAZA PRAC'!$D$4:$D$61,$P310-4+38),"") | BD310: =IF(39<=$Q310,INDEX('BAZA PRAC'!$D$4:$D$61,$P310-4+39),"") | BE310: =IF(40<=$Q310,INDEX('BAZA PRAC'!$D$4:$D$61,$P310-4+40),"") | BF310: =IF(41<=$Q310,INDEX('BAZA PRAC'!$D$4:$D$61,$P310-4+41),"") | BG310: =IF(42<=$Q310,INDEX('BAZA PRAC'!$D$4:$D$61,$P310-4+42),"") | BH310: =IF(43<=$Q310,INDEX('BAZA PRAC'!$D$4:$D$61,$P310-4+43),"") | BI310: =IF(44<=$Q310,INDEX('BAZA PRAC'!$D$4:$D$61,$P310-4+44),"") | BJ310: =IF(45<=$Q310,INDEX('BAZA PRAC'!$D$4:$D$61,$P310-4+45),"") | BK310: =IF(46<=$Q310,INDEX('BAZA PRAC'!$D$4:$D$61,$P310-4+46),"") | BL310: =IF(47<=$Q310,INDEX('BAZA PRAC'!$D$4:$D$61,$P310-4+47),"") | BM310: =IF(48<=$Q310,INDEX('BAZA PRAC'!$D$4:$D$61,$P310-4+48),"") | BN310: =IF(49<=$Q310,INDEX('BAZA PRAC'!$D$4:$D$61,$P310-4+49),"") | BO310: =IF(50<=$Q310,INDEX('BAZA PRAC'!$D$4:$D$61,$P310-4+50),"") | BP310: =IF(51<=$Q310,INDEX('BAZA PRAC'!$D$4:$D$61,$P310-4+51),"") | BQ310: =IF(52<=$Q310,INDEX('BAZA PRAC'!$D$4:$D$61,$P310-4+52),"") | BR310: =IF(53<=$Q310,INDEX('BAZA PRAC'!$D$4:$D$61,$P310-4+53),"") | BS310: =IF(54<=$Q310,INDEX('BAZA PRAC'!$D$4:$D$61,$P310-4+54),"") | BT310: =IF(55<=$Q310,INDEX('BAZA PRAC'!$D$4:$D$61,$P310-4+55),"") | BU310: =IF(56<=$Q310,INDEX('BAZA PRAC'!$D$4:$D$61,$P310-4+56),"") | BV310: =IF(57<=$Q310,INDEX('BAZA PRAC'!$D$4:$D$61,$P310-4+57),"") | BW310: =IF(58<=$Q310,INDEX('BAZA PRAC'!$D$4:$D$61,$P310-4+58),"")
A312: RAZEM wartość netto (po rabacie): | M312: =SUM($M$11:$M$310)
A313: Narzut / koszty ogólne / zysk: | M313: =IF(NARZUT="",0,$M$312*NARZUT)
A314: VAT: | M314: =IF(OR(VAT_ZW="tak",VAT_STAWKA=""),0,($M$312+$M$313)*VAT_STAWKA)
A315: RAZEM brutto: | M315: =$M$312+$M$313+$M$314
B318: ................................................. | J318: .................................................
B319: Wykonawca (podpis) | J319: Klient / Zamawiający (akceptacja)

Sheet PODSUMOWANIE
A1: BRYGADA24
A2: PODSUMOWANIE KOSZTORYSU
B4: Nr kosztorysu: | C4: =IF(START!$H$5="","",START!$H$5) | E4: Data sporządzenia: | F4: =IF(START!$H$7="","",START!$H$7)
B5: Klient: | C5: =IF(START!$C$13="","",START!$C$13) | E5: Wykonawca: | F5: =IF(START!$C$5="","",START!$C$5)
B6: Inwestycja: | C6: =IF(START!$C$20="","",START!$C$20) | E6: Ważność oferty: | F6: =IF(START!$H$13="","",START!$H$13)
B8: ZESTAWIENIE WARTOŚCI | E8: WG BRANŻY (netto po rabacie)
B9: Robocizna netto | C9: =SUMPRODUCT('KOSZTORYS'!$F$11:$F$310,'KOSZTORYS'!$G$11:$G$310) | E9: Branża | F9: Wartość netto
B10: Materiały netto | C10: =SUMPRODUCT('KOSZTORYS'!$F$11:$F$310,'KOSZTORYS'!$H$11:$H$310) | E10: ELEKTRYKA | F10: =SUMIF('KOSZTORYS'!$C$11:$C$310,E10,'KOSZTORYS'!$M$11:$M$310)
B11: Sprzęt / inne netto | C11: =SUMPRODUCT('KOSZTORYS'!$F$11:$F$310,'KOSZTORYS'!$I$11:$I$310) | E11: BUDOWLANKA | F11: =SUMIF('KOSZTORYS'!$C$11:$C$310,E11,'KOSZTORYS'!$M$11:$M$310)
B12: Wartość netto przed rabatem | C12: =C9+C10+C11 | E12: WOD-KAN | F12: =SUMIF('KOSZTORYS'!$C$11:$C$310,E12,'KOSZTORYS'!$M$11:$M$310)
B13: Rabaty (−) | C13: =C12-SUM('KOSZTORYS'!$M$11:$M$310) | E13: WENTYLACJA | F13: =SUMIF('KOSZTORYS'!$C$11:$C$310,E13,'KOSZTORYS'!$M$11:$M$310)
B14: RAZEM netto (po rabacie) | C14: =SUM('KOSZTORYS'!$M$11:$M$310) | E14: AUTOMATYKA | F14: =SUMIF('KOSZTORYS'!$C$11:$C$310,E14,'KOSZTORYS'!$M$11:$M$310)
B15: Narzut / koszty ogólne / zysk | C15: =IF(NARZUT="",0,C14*NARZUT) | E15: INNE | F15: =SUMIF('KOSZTORYS'!$C$11:$C$310,E15,'KOSZTORYS'!$M$11:$M$310)
B16: Stawka VAT | C16: =IF(VAT_ZW="tak","zw.",IF(VAT_STAWKA="","",VAT_STAWKA)) | E16: RAZEM | F16: =SUM(F10:F15)
B17: Kwota VAT | C17: =IF(OR(VAT_ZW="tak",VAT_STAWKA=""),0,(C14+C15)*VAT_STAWKA)
B18: RAZEM brutto | C18: =C14+C15+C17
B20: UWAGI
B21: =IF(START!$A$24="","",START!$A$24)
B25: ................................................. | E25: .................................................
B26: Wykonawca (podpis) | E26: Klient / Zamawiający (akceptacja)

Sheet BAZA PRAC
A1: BRYGADA24 — BAZA POZYCJI KOSZTORYSOWYCH
A2: Słownik prac wg branż. Ceny wpisuje użytkownik w arkuszu KOSZTORYS. Własne pozycje można dopisać na końcu listy.
A3: Kod | B3: Branża | C3: Kategoria | D3: Opis pracy | E3: Jednostka
A4: EL-001 | B4: ELEKTRYKA | C4: Instalacje | D4: Układanie przewodów elektrycznych pod tynk | E4: mb
A5: EL-002 | B5: ELEKTRYKA | C5: Osprzęt | D5: Montaż gniazda 230V | E5: szt
A6: EL-003 | B6: ELEKTRYKA | C6: Osprzęt | D6: Montaż łącznika / wyłącznika | E6: szt
A7: EL-004 | B7: ELEKTRYKA | C7: Oświetlenie | D7: Montaż punktu oświetleniowego | E7: pkt
A8: EL-005 | B8: ELEKTRYKA | C8: Rozdzielnice | D8: Montaż rozdzielnicy mieszkaniowej | E8: szt
A9: EL-006 | B9: ELEKTRYKA | C9: Rozdzielnice | D9: Montaż i podłączenie tablicy licznikowej | E9: szt
A10: EL-007 | B10: ELEKTRYKA | C10: Instalacje | D10: Układanie korytek / rur instalacyjnych | E10: mb
A11: EL-008 | B11: ELEKTRYKA | C11: Oświetlenie | D11: Montaż oprawy oświetleniowej LED | E11: szt
A12: EL-009 | B12: ELEKTRYKA | C12: Instalacje | D12: Wykonanie WLZ (wewn. linii zasilającej) | E12: mb
A13: EL-010 | B13: ELEKTRYKA | C13: Pomiary | D13: Pomiary elektryczne powykonawcze | E13: kpl
A14: EL-011 | B14: ELEKTRYKA | C14: Instalacje | D14: Montaż instalacji odgromowej | E14: mb
... A61: IN-008 | B61: INNE | C61: Własna | D61: Pozycja własna — wpisz własny opis, branżę i jednostkę | E61: szt

Sheet USTAWIENIA
A1: Branże (wybór) | B1: VAT | C1: Tak/Nie | D1: Jednostki | E1: Branża | F1: Token | G1: Start | H1: Ilość
A2: WSZYSTKIE BRANŻE | B2: 0.23 | C2: tak | D2: szt | E2: WSZYSTKIE BRANŻE | F2: BR_WSZYSTKIE | G2: 4 | H2: 58
A3: ELEKTRYKA | B3: 0.08 | C3: nie | D3: mb | E3: ELEKTRYKA | F3: BR_ELEKTRYKA | G3: 4 | H3: 12
A4: BUDOWLANKA | B4: 0 | D4: m2 | E4: BUDOWLANKA | F4: BR_BUDOWLANKA | G4: 16 | H4: 12
A5: WOD-KAN | D5: m3 | E5: WOD-KAN | F5: BR_WODKAN | G5: 28 | H5: 10
A6: WENTYLACJA | D6: kpl | E6: WENTYLACJA | F6: BR_WENTYLACJA | G6: 38 | H6: 8
A7: AUTOMATYKA | D7: pkt | E7: AUTOMATYKA | F7: BR_AUTOMATYKA | G7: 46 | H7: 8
A8: INNE | D8: rbg | E8: INNE | F8: BR_INNE | G8: 54 | H8: 8
D9: dzień
D10: godz
D11: t
D12: kg
D13: l
